BEGIN:VCALENDAR
VERSION:2.0
PRODID:-//Perth Union Library - ECPv6.15.20//NONSGML v1.0//EN
CALSCALE:GREGORIAN
METHOD:PUBLISH
X-WR-CALNAME:Perth Union Library
X-ORIGINAL-URL:https://www.perthunionlibrary.ca
X-WR-CALDESC:Events for Perth Union Library
REFRESH-INTERVAL;VALUE=DURATION:PT1H
X-Robots-Tag:noindex
X-PUBLISHED-TTL:PT1H
BEGIN:VTIMEZONE
TZID:America/Toronto
BEGIN:DAYLIGHT
TZOFFSETFROM:-0500
TZOFFSETTO:-0400
TZNAME:EDT
DTSTART:20230312T070000
END:DAYLIGHT
BEGIN:STANDARD
TZOFFSETFROM:-0400
TZOFFSETTO:-0500
TZNAME:EST
DTSTART:20231105T060000
END:STANDARD
BEGIN:DAYLIGHT
TZOFFSETFROM:-0500
TZOFFSETTO:-0400
TZNAME:EDT
DTSTART:20240310T070000
END:DAYLIGHT
BEGIN:STANDARD
TZOFFSETFROM:-0400
TZOFFSETTO:-0500
TZNAME:EST
DTSTART:20241103T060000
END:STANDARD
BEGIN:DAYLIGHT
TZOFFSETFROM:-0500
TZOFFSETTO:-0400
TZNAME:EDT
DTSTART:20250309T070000
END:DAYLIGHT
BEGIN:STANDARD
TZOFFSETFROM:-0400
TZOFFSETTO:-0500
TZNAME:EST
DTSTART:20251102T060000
END:STANDARD
END:VTIMEZONE
BEGIN:VEVENT
DTSTART;TZID=America/Toronto:20240222T101500
DTEND;TZID=America/Toronto:20240222T110000
DTSTAMP:20260419T183829
CREATED:20240221T151831Z
LAST-MODIFIED:20240221T151836Z
UID:22826-1708596900-1708599600@www.perthunionlibrary.ca
SUMMARY:Storytime
DESCRIPTION:Join Heidi Thursday mornings for stories\,songs and rhymes.This program is best suited for children ages 2-5 and takes place upstairs in the children’s department at the library. The program includes a simple craft or activity. \nRegistration not required drop in! \nIf you prefer to join from the comfort of your home\, sign up for the Zoom link here.
URL:https://www.perthunionlibrary.ca/event/storytime-13-3/
LOCATION:Frizell (Program) Room – Perth & District Union Public Library\, 30 Herriott St\, Perth\, Ontario\, K7H 1T2\, Canada
CATEGORIES:Children
ATTACH;FMTTYPE=image/png:https://www.perthunionlibrary.ca/wp-content/uploads/2023/12/ST-2022-promo-2.png
ORGANIZER;CN="Perth & District Library":MAILTO:info@perthunionlibrary.ca
END:VEVENT
BEGIN:VEVENT
DTSTART;TZID=America/Toronto:20240117T173000
DTEND;TZID=America/Toronto:20240117T183000
DTSTAMP:20260419T183829
CREATED:20230814T180424Z
LAST-MODIFIED:20240212T171440Z
UID:19493-1705512600-1705516200@www.perthunionlibrary.ca
SUMMARY:Junior Lego Club ages 4-8
DESCRIPTION:Come enjoy a monthly Lego challenge at the library! All Lego will be supplied and parent and caregivers are welcome and must stay in the library with if thier chidren are under the age of 10. \nDrop in!
URL:https://www.perthunionlibrary.ca/event/junior-lego-club-ages-4-8-11/
LOCATION:Frizell (Program) Room – Perth & District Union Public Library\, 30 Herriott St\, Perth\, Ontario\, K7H 1T2\, Canada
CATEGORIES:Children
ATTACH;FMTTYPE=image/png:https://www.perthunionlibrary.ca/wp-content/uploads/2022/12/junior-lego-club-ages-4-7.png
END:VEVENT
BEGIN:VEVENT
DTSTART;TZID=America/Toronto:20240116T103000
DTEND;TZID=America/Toronto:20240116T110000
DTSTAMP:20260419T183829
CREATED:20231213T184816Z
LAST-MODIFIED:20231213T184842Z
UID:21742-1705401000-1705402800@www.perthunionlibrary.ca
SUMMARY:Babytime
DESCRIPTION: Babytime returns Tuesday mornings at 10:30 am in the programming room at the library.\nThis half hour program is designed to introduce new parents and babies to the joy of reading and songs.This program is for children 0-18 months and their caregivers. \nIf you prefer to join in from the comfort of your home sign up to receive the Zoom link.
URL:https://www.perthunionlibrary.ca/event/babytime/
LOCATION:Frizell (Program) Room – Perth & District Union Public Library\, 30 Herriott St\, Perth\, Ontario\, K7H 1T2\, Canada
CATEGORIES:Babies & Toddlers,Children
ATTACH;FMTTYPE=image/png:https://www.perthunionlibrary.ca/wp-content/uploads/2023/12/Babytime-Spring-2023-8.5-x-11-in.png
ORGANIZER;CN="Perth & District Library":MAILTO:info@perthunionlibrary.ca
END:VEVENT
BEGIN:VEVENT
DTSTART;TZID=America/Toronto:20240217T103000
DTEND;TZID=America/Toronto:20240217T120000
DTSTAMP:20260419T183829
CREATED:20240129T203633Z
LAST-MODIFIED:20240129T203633Z
UID:22362-1708165800-1708171200@www.perthunionlibrary.ca
SUMMARY:Learn to Code with micro:bit
DESCRIPTION:Discover the world of coding with the BBC micro:bit! Join us for one or both sessions to have fun\, earn hands-on\, and dive into the exciting world of coding. \nLimited computers availble. If you have a laptop\, please bring one.
URL:https://www.perthunionlibrary.ca/event/learn-to-code-with-microbit-5/
LOCATION:Frizell (Program) Room – Perth & District Union Public Library\, 30 Herriott St\, Perth\, Ontario\, K7H 1T2\, Canada
CATEGORIES:Children
ATTACH;FMTTYPE=image/png:https://www.perthunionlibrary.ca/wp-content/uploads/2024/01/February-2024-Library-Poster.png
ORGANIZER;CN="Perth & District Library":MAILTO:info@perthunionlibrary.ca
END:VEVENT
BEGIN:VEVENT
DTSTART;TZID=America/Toronto:20240118T101500
DTEND;TZID=America/Toronto:20240118T110000
DTSTAMP:20260419T183829
CREATED:20231207T200928Z
LAST-MODIFIED:20231213T180757Z
UID:21554-1705572900-1705575600@www.perthunionlibrary.ca
SUMMARY:Storytime
DESCRIPTION:Join Heidi Thursday mornings for stories\,songs and rhymes.This program is best suited for children ages 2-5 and takes place upstairs in the children’s department at the library. The program includes a simple craft or activity. \nRegistration not required drop in! \nIf you prefer to join from the comfort of your home\, sign up for the Zoom link here.
URL:https://www.perthunionlibrary.ca/event/storytime-13/
LOCATION:Frizell (Program) Room – Perth & District Union Public Library\, 30 Herriott St\, Perth\, Ontario\, K7H 1T2\, Canada
CATEGORIES:Children
ATTACH;FMTTYPE=image/png:https://www.perthunionlibrary.ca/wp-content/uploads/2023/12/ST-2022-promo-2.png
ORGANIZER;CN="Perth & District Library":MAILTO:info@perthunionlibrary.ca
END:VEVENT
BEGIN:VEVENT
DTSTART;TZID=America/Toronto:20240116T103000
DTEND;TZID=America/Toronto:20240116T110000
DTSTAMP:20260419T183829
CREATED:20231213T184816Z
LAST-MODIFIED:20231213T184842Z
UID:21742-1705401000-1705402800@www.perthunionlibrary.ca
SUMMARY:Babytime
DESCRIPTION: Babytime returns Tuesday mornings at 10:30 am in the programming room at the library.\nThis half hour program is designed to introduce new parents and babies to the joy of reading and songs.This program is for children 0-18 months and their caregivers. \nIf you prefer to join in from the comfort of your home sign up to receive the Zoom link.
URL:https://www.perthunionlibrary.ca/event/babytime/
LOCATION:Frizell (Program) Room – Perth & District Union Public Library\, 30 Herriott St\, Perth\, Ontario\, K7H 1T2\, Canada
CATEGORIES:Babies & Toddlers,Children
ATTACH;FMTTYPE=image/png:https://www.perthunionlibrary.ca/wp-content/uploads/2023/12/Babytime-Spring-2023-8.5-x-11-in.png
ORGANIZER;CN="Perth & District Library":MAILTO:info@perthunionlibrary.ca
END:VEVENT
BEGIN:VEVENT
DTSTART;TZID=America/Toronto:20240210T103000
DTEND;TZID=America/Toronto:20240210T120000
DTSTAMP:20260419T183829
CREATED:20240129T203451Z
LAST-MODIFIED:20240129T203451Z
UID:22358-1707561000-1707566400@www.perthunionlibrary.ca
SUMMARY:Learn to Code with micro:bit
DESCRIPTION:Discover the world of coding with the BBC micro:bit! Join us for one or both sessions to have fun\, earn hands-on\, and dive into the exciting world of coding. \nLimited computers availble. If you have a laptop\, please bring one.
URL:https://www.perthunionlibrary.ca/event/learn-to-code-with-microbit-4/
LOCATION:Frizell (Program) Room – Perth & District Union Public Library\, 30 Herriott St\, Perth\, Ontario\, K7H 1T2\, Canada
CATEGORIES:Children
ATTACH;FMTTYPE=image/png:https://www.perthunionlibrary.ca/wp-content/uploads/2024/01/February-2024-Library-Poster.png
ORGANIZER;CN="Perth & District Library":MAILTO:info@perthunionlibrary.ca
END:VEVENT
BEGIN:VEVENT
DTSTART;TZID=America/Toronto:20240118T101500
DTEND;TZID=America/Toronto:20240118T110000
DTSTAMP:20260419T183829
CREATED:20231207T200928Z
LAST-MODIFIED:20231213T180757Z
UID:21554-1705572900-1705575600@www.perthunionlibrary.ca
SUMMARY:Storytime
DESCRIPTION:Join Heidi Thursday mornings for stories\,songs and rhymes.This program is best suited for children ages 2-5 and takes place upstairs in the children’s department at the library. The program includes a simple craft or activity. \nRegistration not required drop in! \nIf you prefer to join from the comfort of your home\, sign up for the Zoom link here.
URL:https://www.perthunionlibrary.ca/event/storytime-13/
LOCATION:Frizell (Program) Room – Perth & District Union Public Library\, 30 Herriott St\, Perth\, Ontario\, K7H 1T2\, Canada
CATEGORIES:Children
ATTACH;FMTTYPE=image/png:https://www.perthunionlibrary.ca/wp-content/uploads/2023/12/ST-2022-promo-2.png
ORGANIZER;CN="Perth & District Library":MAILTO:info@perthunionlibrary.ca
END:VEVENT
BEGIN:VEVENT
DTSTART;TZID=America/Toronto:20240116T103000
DTEND;TZID=America/Toronto:20240116T110000
DTSTAMP:20260419T183829
CREATED:20231213T184816Z
LAST-MODIFIED:20231213T184842Z
UID:21742-1705401000-1705402800@www.perthunionlibrary.ca
SUMMARY:Babytime
DESCRIPTION: Babytime returns Tuesday mornings at 10:30 am in the programming room at the library.\nThis half hour program is designed to introduce new parents and babies to the joy of reading and songs.This program is for children 0-18 months and their caregivers. \nIf you prefer to join in from the comfort of your home sign up to receive the Zoom link.
URL:https://www.perthunionlibrary.ca/event/babytime/
LOCATION:Frizell (Program) Room – Perth & District Union Public Library\, 30 Herriott St\, Perth\, Ontario\, K7H 1T2\, Canada
CATEGORIES:Babies & Toddlers,Children
ATTACH;FMTTYPE=image/png:https://www.perthunionlibrary.ca/wp-content/uploads/2023/12/Babytime-Spring-2023-8.5-x-11-in.png
ORGANIZER;CN="Perth & District Library":MAILTO:info@perthunionlibrary.ca
END:VEVENT
BEGIN:VEVENT
DTSTART;TZID=America/Toronto:20240118T101500
DTEND;TZID=America/Toronto:20240118T110000
DTSTAMP:20260419T183829
CREATED:20231207T200928Z
LAST-MODIFIED:20231213T180757Z
UID:21554-1705572900-1705575600@www.perthunionlibrary.ca
SUMMARY:Storytime
DESCRIPTION:Join Heidi Thursday mornings for stories\,songs and rhymes.This program is best suited for children ages 2-5 and takes place upstairs in the children’s department at the library. The program includes a simple craft or activity. \nRegistration not required drop in! \nIf you prefer to join from the comfort of your home\, sign up for the Zoom link here.
URL:https://www.perthunionlibrary.ca/event/storytime-13/
LOCATION:Frizell (Program) Room – Perth & District Union Public Library\, 30 Herriott St\, Perth\, Ontario\, K7H 1T2\, Canada
CATEGORIES:Children
ATTACH;FMTTYPE=image/png:https://www.perthunionlibrary.ca/wp-content/uploads/2023/12/ST-2022-promo-2.png
ORGANIZER;CN="Perth & District Library":MAILTO:info@perthunionlibrary.ca
END:VEVENT
BEGIN:VEVENT
DTSTART;TZID=America/Toronto:20240116T103000
DTEND;TZID=America/Toronto:20240116T110000
DTSTAMP:20260419T183829
CREATED:20231213T184816Z
LAST-MODIFIED:20231213T184842Z
UID:21742-1705401000-1705402800@www.perthunionlibrary.ca
SUMMARY:Babytime
DESCRIPTION: Babytime returns Tuesday mornings at 10:30 am in the programming room at the library.\nThis half hour program is designed to introduce new parents and babies to the joy of reading and songs.This program is for children 0-18 months and their caregivers. \nIf you prefer to join in from the comfort of your home sign up to receive the Zoom link.
URL:https://www.perthunionlibrary.ca/event/babytime/
LOCATION:Frizell (Program) Room – Perth & District Union Public Library\, 30 Herriott St\, Perth\, Ontario\, K7H 1T2\, Canada
CATEGORIES:Babies & Toddlers,Children
ATTACH;FMTTYPE=image/png:https://www.perthunionlibrary.ca/wp-content/uploads/2023/12/Babytime-Spring-2023-8.5-x-11-in.png
ORGANIZER;CN="Perth & District Library":MAILTO:info@perthunionlibrary.ca
END:VEVENT
BEGIN:VEVENT
DTSTART;TZID=America/Toronto:20240116T103000
DTEND;TZID=America/Toronto:20240116T110000
DTSTAMP:20260419T183829
CREATED:20231213T184816Z
LAST-MODIFIED:20231213T184842Z
UID:21742-1705401000-1705402800@www.perthunionlibrary.ca
SUMMARY:Babytime
DESCRIPTION: Babytime returns Tuesday mornings at 10:30 am in the programming room at the library.\nThis half hour program is designed to introduce new parents and babies to the joy of reading and songs.This program is for children 0-18 months and their caregivers. \nIf you prefer to join in from the comfort of your home sign up to receive the Zoom link.
URL:https://www.perthunionlibrary.ca/event/babytime/
LOCATION:Frizell (Program) Room – Perth & District Union Public Library\, 30 Herriott St\, Perth\, Ontario\, K7H 1T2\, Canada
CATEGORIES:Babies & Toddlers,Children
ATTACH;FMTTYPE=image/png:https://www.perthunionlibrary.ca/wp-content/uploads/2023/12/Babytime-Spring-2023-8.5-x-11-in.png
ORGANIZER;CN="Perth & District Library":MAILTO:info@perthunionlibrary.ca
END:VEVENT
BEGIN:VEVENT
DTSTART;TZID=America/Toronto:20240118T101500
DTEND;TZID=America/Toronto:20240118T110000
DTSTAMP:20260419T183829
CREATED:20231207T200928Z
LAST-MODIFIED:20231213T180757Z
UID:21554-1705572900-1705575600@www.perthunionlibrary.ca
SUMMARY:Storytime
DESCRIPTION:Join Heidi Thursday mornings for stories\,songs and rhymes.This program is best suited for children ages 2-5 and takes place upstairs in the children’s department at the library. The program includes a simple craft or activity. \nRegistration not required drop in! \nIf you prefer to join from the comfort of your home\, sign up for the Zoom link here.
URL:https://www.perthunionlibrary.ca/event/storytime-13/
LOCATION:Frizell (Program) Room – Perth & District Union Public Library\, 30 Herriott St\, Perth\, Ontario\, K7H 1T2\, Canada
CATEGORIES:Children
ATTACH;FMTTYPE=image/png:https://www.perthunionlibrary.ca/wp-content/uploads/2023/12/ST-2022-promo-2.png
ORGANIZER;CN="Perth & District Library":MAILTO:info@perthunionlibrary.ca
END:VEVENT
BEGIN:VEVENT
DTSTART;TZID=America/Toronto:20240117T173000
DTEND;TZID=America/Toronto:20240117T183000
DTSTAMP:20260419T183829
CREATED:20230814T180424Z
LAST-MODIFIED:20240212T171440Z
UID:19493-1705512600-1705516200@www.perthunionlibrary.ca
SUMMARY:Junior Lego Club ages 4-8
DESCRIPTION:Come enjoy a monthly Lego challenge at the library! All Lego will be supplied and parent and caregivers are welcome and must stay in the library with if thier chidren are under the age of 10. \nDrop in!
URL:https://www.perthunionlibrary.ca/event/junior-lego-club-ages-4-8-11/
LOCATION:Frizell (Program) Room – Perth & District Union Public Library\, 30 Herriott St\, Perth\, Ontario\, K7H 1T2\, Canada
CATEGORIES:Children
ATTACH;FMTTYPE=image/png:https://www.perthunionlibrary.ca/wp-content/uploads/2022/12/junior-lego-club-ages-4-7.png
END:VEVENT
BEGIN:VEVENT
DTSTART;TZID=America/Toronto:20240116T103000
DTEND;TZID=America/Toronto:20240116T110000
DTSTAMP:20260419T183829
CREATED:20231213T184816Z
LAST-MODIFIED:20231213T184842Z
UID:21742-1705401000-1705402800@www.perthunionlibrary.ca
SUMMARY:Babytime
DESCRIPTION: Babytime returns Tuesday mornings at 10:30 am in the programming room at the library.\nThis half hour program is designed to introduce new parents and babies to the joy of reading and songs.This program is for children 0-18 months and their caregivers. \nIf you prefer to join in from the comfort of your home sign up to receive the Zoom link.
URL:https://www.perthunionlibrary.ca/event/babytime/
LOCATION:Frizell (Program) Room – Perth & District Union Public Library\, 30 Herriott St\, Perth\, Ontario\, K7H 1T2\, Canada
CATEGORIES:Babies & Toddlers,Children
ATTACH;FMTTYPE=image/png:https://www.perthunionlibrary.ca/wp-content/uploads/2023/12/Babytime-Spring-2023-8.5-x-11-in.png
ORGANIZER;CN="Perth & District Library":MAILTO:info@perthunionlibrary.ca
END:VEVENT
END:VCALENDAR