BEGIN:VCALENDAR
VERSION:2.0
PRODID:-//Perth Union Library - ECPv6.15.20//NONSGML v1.0//EN
CALSCALE:GREGORIAN
METHOD:PUBLISH
X-ORIGINAL-URL:https://www.perthunionlibrary.ca
X-WR-CALDESC:Events for Perth Union Library
REFRESH-INTERVAL;VALUE=DURATION:PT1H
X-Robots-Tag:noindex
X-PUBLISHED-TTL:PT1H
BEGIN:VTIMEZONE
TZID:America/Toronto
BEGIN:DAYLIGHT
TZOFFSETFROM:-0500
TZOFFSETTO:-0400
TZNAME:EDT
DTSTART:20230312T070000
END:DAYLIGHT
BEGIN:STANDARD
TZOFFSETFROM:-0400
TZOFFSETTO:-0500
TZNAME:EST
DTSTART:20231105T060000
END:STANDARD
BEGIN:DAYLIGHT
TZOFFSETFROM:-0500
TZOFFSETTO:-0400
TZNAME:EDT
DTSTART:20240310T070000
END:DAYLIGHT
BEGIN:STANDARD
TZOFFSETFROM:-0400
TZOFFSETTO:-0500
TZNAME:EST
DTSTART:20241103T060000
END:STANDARD
BEGIN:DAYLIGHT
TZOFFSETFROM:-0500
TZOFFSETTO:-0400
TZNAME:EDT
DTSTART:20250309T070000
END:DAYLIGHT
BEGIN:STANDARD
TZOFFSETFROM:-0400
TZOFFSETTO:-0500
TZNAME:EST
DTSTART:20251102T060000
END:STANDARD
END:VTIMEZONE
BEGIN:VEVENT
DTSTART;VALUE=DATE:20240802
DTEND;VALUE=DATE:20240803
DTSTAMP:20260422T225658
CREATED:20240802T194824Z
LAST-MODIFIED:20240803T133453Z
UID:26130-1722556800-1722643199@www.perthunionlibrary.ca
SUMMARY:Film Club Fridays @ Studio Theatre Perth
DESCRIPTION:Screenings are on select Fridays 2pm & 7pm.\nRegular film admission at the door is $12  cash (debit or credit).\nYou can also buy a film pass. Film passes are $50 for 5 films of your choice.\nFilm Club passes are available for purchase at the box office or at the Perth & District Library (please note that the library only accepts cash or cheque). \nTo learn what’s playing visit https://studiotheatreperth.com/film-club-fridays/ \n  \nFilm Club Fridays is a fundraiser of the Perth & District Library. Thank you for your support!
URL:https://www.perthunionlibrary.ca/event/film-club-fridays-studio-theatre-perth/
LOCATION:Studio Theatre Perth\, 63 Gore St E\, Perth\, ON\, K7H 1H8\, Canada
CATEGORIES:Adult,Children,Seniors,Teen
ATTACH;FMTTYPE=image/jpeg:https://www.perthunionlibrary.ca/wp-content/uploads/2024/08/WORKOUT-1.jpg
END:VEVENT
BEGIN:VEVENT
DTSTART;TZID=America/Toronto:20240806T140000
DTEND;TZID=America/Toronto:20240806T150000
DTSTAMP:20260422T225658
CREATED:20240610T130019Z
LAST-MODIFIED:20240607T135347Z
UID:24739-1722952800-1722956400@www.perthunionlibrary.ca
SUMMARY:Teen Activity: Learn to Crochet
DESCRIPTION:Crocheting. In my personal opinion\, it is one of the great joys of life. And so useful! learn how to make yourself hats\, scarves\, etc. The world of crocheting is truly your oyster. Come to the library to learn how to crochet with Rhiannon. Yarn and crochet hooks will be provided but feel free to bring your own if you would like. \nRegistration opens July 20 @ 9 am.
URL:https://www.perthunionlibrary.ca/event/teen-activity-learn-to-crochet/
LOCATION:Frizell (Program) Room – Perth & District Union Public Library\, 30 Herriott St\, Perth\, Ontario\, K7H 1T2\, Canada
CATEGORIES:Teen
ATTACH;FMTTYPE=image/png:https://www.perthunionlibrary.ca/wp-content/uploads/2024/06/Screenshot-2024-06-07-at-9.46.36 AM.png
ORGANIZER;CN="Perth & District Library":MAILTO:info@perthunionlibrary.ca
END:VEVENT
BEGIN:VEVENT
DTSTART;TZID=America/Toronto:20240807T140000
DTEND;TZID=America/Toronto:20240807T150000
DTSTAMP:20260422T225658
CREATED:20240610T130048Z
LAST-MODIFIED:20240607T143738Z
UID:24744-1723039200-1723042800@www.perthunionlibrary.ca
SUMMARY:Murphy's Point Reptiles
DESCRIPTION:If you missed it the first time around\, come to see Rachel Needham talk about the Reptiles of Lanark with a special guest\, a live Gray Ratsnake!
URL:https://www.perthunionlibrary.ca/event/murphys-point-reptiles/
LOCATION:Library Garden – Perth & District Union Public Library\, 30 Herriott St\, Perth\, ON\, K7H 1T2\, Canada
CATEGORIES:Children,Teen
ORGANIZER;CN="Perth & District Library":MAILTO:info@perthunionlibrary.ca
END:VEVENT
BEGIN:VEVENT
DTSTART;TZID=America/Toronto:20240810T130000
DTEND;TZID=America/Toronto:20240810T150000
DTSTAMP:20260422T225658
CREATED:20240501T151829Z
LAST-MODIFIED:20240807T191232Z
UID:24153-1723294800-1723302000@www.perthunionlibrary.ca
SUMMARY:Lanark Speaks: Featuring Ksenia Knyazeva
DESCRIPTION:Together\, Perth & District Union Public Library and Queer Connection Lanark (QCL) are excited to present “Lanark Speaks: Queer Speaker Series.” This series features 2SLGBTQI+ community members and a range of topics: drag\, sports\, horticulture\, comedy\, business\, and identity. We invite everyone to join us in listening and learning from these speaker’s stories\, experiences\, talents\, and shared wisdom.  \nKsenia Knyazeva is the owner of Patriam Coffee in Kingston\, Ontario. She is a fun\, queer\, hardworking business owner who moved to Canada from Eastern Russia all on her own. \nThis performance is sponsored and made possible through support from Perth & District Community Foundation. \nFollow the link to register to view the program live\, via Zoom: https://us02web.zoom.us/meeting/register/tZYvfuyhqDksHdELtYhUBcQGA3L3iinRApqC
URL:https://www.perthunionlibrary.ca/event/lanark-speaks-featuring-ksenia-knyazeva/
LOCATION:Frizell (Program) Room – Perth & District Union Public Library\, 30 Herriott St\, Perth\, Ontario\, K7H 1T2\, Canada
CATEGORIES:Adult,Seniors,Teen
ATTACH;FMTTYPE=image/png:https://www.perthunionlibrary.ca/wp-content/uploads/2024/04/LS-website-2.png
ORGANIZER;CN="Perth & District Library":MAILTO:info@perthunionlibrary.ca
END:VEVENT
BEGIN:VEVENT
DTSTART;TZID=America/Toronto:20240813T140000
DTEND;TZID=America/Toronto:20240813T150000
DTSTAMP:20260422T225658
CREATED:20240610T130022Z
LAST-MODIFIED:20240801T130049Z
UID:24818-1723557600-1723561200@www.perthunionlibrary.ca
SUMMARY:DIY Paper Flower Crafting for Teens
DESCRIPTION:Join us to make wonderful\, non-perishable bouquet. You can use them to decorate your room\, or give them to someone important to you! \nRegistration opens July 31 @ 9 am.
URL:https://www.perthunionlibrary.ca/event/teen-activity-petals-paper-diy-paper-flower-crafting-2/
LOCATION:Library Garden – Perth & District Union Public Library\, 30 Herriott St\, Perth\, ON\, K7H 1T2\, Canada
CATEGORIES:Teen
ATTACH;FMTTYPE=image/png:https://www.perthunionlibrary.ca/wp-content/uploads/2024/06/Screenshot-2024-06-07-at-11.18.06 AM.png
ORGANIZER;CN="Perth & District Library":MAILTO:info@perthunionlibrary.ca
END:VEVENT
BEGIN:VEVENT
DTSTART;TZID=America/Toronto:20240820T140000
DTEND;TZID=America/Toronto:20240820T150000
DTSTAMP:20260422T225658
CREATED:20240610T130021Z
LAST-MODIFIED:20240608T181146Z
UID:24782-1724162400-1724166000@www.perthunionlibrary.ca
SUMMARY:TEEN ACTIVITY:  Short Film Fest
DESCRIPTION:Teens! We want your opinions. Join us to watch a series of short films and give your professional opinion on which one you think is the best! \nDrop in popcorn provided! \n 
URL:https://www.perthunionlibrary.ca/event/teen-activity-short-film-fest/
LOCATION:Library Garden – Perth & District Union Public Library\, 30 Herriott St\, Perth\, ON\, K7H 1T2\, Canada
CATEGORIES:Teen
ATTACH;FMTTYPE=image/png:https://www.perthunionlibrary.ca/wp-content/uploads/2024/06/Screenshot-2024-06-07-at-1.19.53 PM.png
ORGANIZER;CN="Perth & District Library":MAILTO:info@perthunionlibrary.ca
END:VEVENT
BEGIN:VEVENT
DTSTART;TZID=America/Toronto:20240821T140000
DTEND;TZID=America/Toronto:20240821T150000
DTSTAMP:20260422T225658
CREATED:20240610T130034Z
LAST-MODIFIED:20240607T173226Z
UID:24792-1724248800-1724252400@www.perthunionlibrary.ca
SUMMARY:Summer Farewells and Friendship Bracelet Workshop
DESCRIPTION:As a symbol of summer 2023\, craft and exchange friendship bracelets with your friends! RSVP opens July 31st at 9AM.
URL:https://www.perthunionlibrary.ca/event/summer-farewells-and-friendship-bracelet-workshop/
LOCATION:Library Garden – Perth & District Union Public Library\, 30 Herriott St\, Perth\, ON\, K7H 1T2\, Canada
CATEGORIES:Teen
ATTACH;FMTTYPE=image/webp:https://www.perthunionlibrary.ca/wp-content/uploads/2023/06/friendship-bracelet.webp
ORGANIZER;CN="Perth & District Library":MAILTO:info@perthunionlibrary.ca
END:VEVENT
BEGIN:VEVENT
DTSTART;TZID=America/Toronto:20240822T140000
DTEND;TZID=America/Toronto:20240822T150000
DTSTAMP:20260422T225658
CREATED:20240610T130032Z
LAST-MODIFIED:20240607T174509Z
UID:24796-1724335200-1724338800@www.perthunionlibrary.ca
SUMMARY:End of summer party!
DESCRIPTION:Come out to the library for the last TD Summer Reading Club event of the summer! We will draw all winners for prizes\, eat cupcakes\, listen to music\, and (of course) dance!
URL:https://www.perthunionlibrary.ca/event/end-of-summer-party-3/
LOCATION:Library Garden – Perth & District Union Public Library\, 30 Herriott St\, Perth\, ON\, K7H 1T2\, Canada
CATEGORIES:Children,Teen
ATTACH;FMTTYPE=image/png:https://www.perthunionlibrary.ca/wp-content/uploads/2024/06/Hiring.png
ORGANIZER;CN="Perth & District Library":MAILTO:info@perthunionlibrary.ca
END:VEVENT
END:VCALENDAR