BEGIN:VCALENDAR
VERSION:2.0
PRODID:-//Perth Union Library - ECPv6.15.20//NONSGML v1.0//EN
CALSCALE:GREGORIAN
METHOD:PUBLISH
X-ORIGINAL-URL:https://www.perthunionlibrary.ca
X-WR-CALDESC:Events for Perth Union Library
REFRESH-INTERVAL;VALUE=DURATION:PT1H
X-Robots-Tag:noindex
X-PUBLISHED-TTL:PT1H
BEGIN:VTIMEZONE
TZID:America/Toronto
BEGIN:DAYLIGHT
TZOFFSETFROM:-0500
TZOFFSETTO:-0400
TZNAME:EDT
DTSTART:20230312T070000
END:DAYLIGHT
BEGIN:STANDARD
TZOFFSETFROM:-0400
TZOFFSETTO:-0500
TZNAME:EST
DTSTART:20231105T060000
END:STANDARD
BEGIN:DAYLIGHT
TZOFFSETFROM:-0500
TZOFFSETTO:-0400
TZNAME:EDT
DTSTART:20240310T070000
END:DAYLIGHT
BEGIN:STANDARD
TZOFFSETFROM:-0400
TZOFFSETTO:-0500
TZNAME:EST
DTSTART:20241103T060000
END:STANDARD
BEGIN:DAYLIGHT
TZOFFSETFROM:-0500
TZOFFSETTO:-0400
TZNAME:EDT
DTSTART:20250309T070000
END:DAYLIGHT
BEGIN:STANDARD
TZOFFSETFROM:-0400
TZOFFSETTO:-0500
TZNAME:EST
DTSTART:20251102T060000
END:STANDARD
END:VTIMEZONE
BEGIN:VEVENT
DTSTART;VALUE=DATE:20240906
DTEND;VALUE=DATE:20240907
DTSTAMP:20260422T212004
CREATED:20240802T201208Z
LAST-MODIFIED:20240803T133245Z
UID:26141-1725580800-1725667199@www.perthunionlibrary.ca
SUMMARY:Film Club Fridays @ Studio Theatre Perth
DESCRIPTION:Screenings are on select Fridays 2pm & 7pm.\nRegular film admission at the door is $12  cash (debit or credit).\nYou can also buy a film pass. Film passes are $50 for 5 films of your choice.\nFilm Club passes are available for purchase at the box office or at the Perth & District Library (please note that the library only accepts cash or cheque). \nTo learn what’s playing visit https://studiotheatreperth.com/film-club-fridays/ \n  \nFilm Club Fridays is a fundraiser of the Perth & District Library. Thank you for your support!
URL:https://www.perthunionlibrary.ca/event/film-club-fridays-studio-theatre-perth-2/
LOCATION:Studio Theatre Perth\, 63 Gore St E\, Perth\, ON\, K7H 1H8\, Canada
CATEGORIES:Adult,Seniors,Teen
ATTACH;FMTTYPE=image/jpeg:https://www.perthunionlibrary.ca/wp-content/uploads/2024/08/WORKOUT-1.jpg
END:VEVENT
BEGIN:VEVENT
DTSTART;TZID=America/Toronto:20240910T144500
DTEND;TZID=America/Toronto:20240910T154500
DTSTAMP:20260422T212004
CREATED:20240819T182359Z
LAST-MODIFIED:20240819T183111Z
UID:26378-1725979500-1725983100@www.perthunionlibrary.ca
SUMMARY:Teen Book Club
DESCRIPTION:Do you love reading and snacks? Join Teen book club to read\, snack and hang out at the library! \nemail htaber@perthunionlibrary.ca if you would like to join.
URL:https://www.perthunionlibrary.ca/event/teen-book-club-13/
LOCATION:Frizell (Program) Room – Perth & District Union Public Library\, 30 Herriott St\, Perth\, Ontario\, K7H 1T2\, Canada
CATEGORIES:Teen
ATTACH;FMTTYPE=image/png:https://www.perthunionlibrary.ca/wp-content/uploads/2024/08/teenBook-club-2.png
ORGANIZER;CN="Perth & District Library":MAILTO:info@perthunionlibrary.ca
END:VEVENT
BEGIN:VEVENT
DTSTART;TZID=America/Toronto:20240911T133000
DTEND;TZID=America/Toronto:20240911T150000
DTSTAMP:20260422T212004
CREATED:20240916T143328Z
LAST-MODIFIED:20240916T143427Z
UID:26691-1726061400-1726066800@www.perthunionlibrary.ca
SUMMARY:Meditation and Associated Practices
DESCRIPTION:Mary Lou Mongeau guides participants through meditation and associated practices\, including practical techniques for growth\, self healing\, becoming aware of our true self\, and alignment with the Universal Consciousness. \nIn a session you might explore \n\nmeditation\nenergy centers\nbalancing techniques\ndreams and synchronicity\njournal keeping\nan energy perspective on relationships\nreactions to a process of change\nassuming responsibility\n\nDrop-in sessions. All are welcome!
URL:https://www.perthunionlibrary.ca/event/meditation-and-associated-practices/
LOCATION:Frizell (Program) Room – Perth & District Union Public Library\, 30 Herriott St\, Perth\, Ontario\, K7H 1T2\, Canada
CATEGORIES:Adult,Seniors,Teen
ATTACH;FMTTYPE=image/jpeg:https://www.perthunionlibrary.ca/wp-content/uploads/2024/09/Meditation-Associated-Processes-Twitter-Post.jpg
ORGANIZER;CN="Perth & District Library":MAILTO:info@perthunionlibrary.ca
END:VEVENT
BEGIN:VEVENT
DTSTART;TZID=America/Toronto:20240924T130000
DTEND;TZID=America/Toronto:20240924T170000
DTSTAMP:20260422T212004
CREATED:20240808T160031Z
LAST-MODIFIED:20240808T214853Z
UID:26012-1727182800-1727197200@www.perthunionlibrary.ca
SUMMARY:Orange Shirt Day: Community Beading Workshop
DESCRIPTION:When Phyllis Webstad went to St. Joseph’s Residential School for the first time\, she took with her a shiny new orange shirt that her grandmother bought for her. That shirt was taken away and never returned. It has become a symbol of the Every Child Matters movement. On September 30th\, we remember and recognize the survivors of residential schools. The Perth & District Library is honoured to support this movement with a community beading workshop led by Shelley Bourgeois.\n\n\nParticipants will learn how to bead an orange shirt pin that they can wear in support of and to spread awareness of Orange Shirt Day. Please note\, the beaded pins take 2+ hours to complete.\n\nThis program is free and open to 14+. Materials are provided. Bring your own snacks. Bring reading glasses if needed!\nDonations are welcome to help cover the cost of supplies.\n\nPlease RSVP below.
URL:https://www.perthunionlibrary.ca/event/orange-shirt-day-community-beading-workshop/
LOCATION:Frizell (Program) Room – Perth & District Union Public Library\, 30 Herriott St\, Perth\, Ontario\, K7H 1T2\, Canada
CATEGORIES:Adult,Seniors,Teen
ATTACH;FMTTYPE=image/jpeg:https://www.perthunionlibrary.ca/wp-content/uploads/2024/08/Copy-of-Red-Dress-Day-Poster-Twitter-Post.jpg
END:VEVENT
BEGIN:VEVENT
DTSTART;TZID=America/Toronto:20240911T133000
DTEND;TZID=America/Toronto:20240911T150000
DTSTAMP:20260422T212004
CREATED:20240916T143328Z
LAST-MODIFIED:20240916T143427Z
UID:26691-1726061400-1726066800@www.perthunionlibrary.ca
SUMMARY:Meditation and Associated Practices
DESCRIPTION:Mary Lou Mongeau guides participants through meditation and associated practices\, including practical techniques for growth\, self healing\, becoming aware of our true self\, and alignment with the Universal Consciousness. \nIn a session you might explore \n\nmeditation\nenergy centers\nbalancing techniques\ndreams and synchronicity\njournal keeping\nan energy perspective on relationships\nreactions to a process of change\nassuming responsibility\n\nDrop-in sessions. All are welcome!
URL:https://www.perthunionlibrary.ca/event/meditation-and-associated-practices/
LOCATION:Frizell (Program) Room – Perth & District Union Public Library\, 30 Herriott St\, Perth\, Ontario\, K7H 1T2\, Canada
CATEGORIES:Adult,Seniors,Teen
ATTACH;FMTTYPE=image/jpeg:https://www.perthunionlibrary.ca/wp-content/uploads/2024/09/Meditation-Associated-Processes-Twitter-Post.jpg
ORGANIZER;CN="Perth & District Library":MAILTO:info@perthunionlibrary.ca
END:VEVENT
BEGIN:VEVENT
DTSTART;TZID=America/Toronto:20240927T103000
DTEND;TZID=America/Toronto:20240927T113000
DTSTAMP:20260422T212004
CREATED:20240820T131207Z
LAST-MODIFIED:20240820T132756Z
UID:26388-1727433000-1727436600@www.perthunionlibrary.ca
SUMMARY:Orange Shirt Day Storytime
DESCRIPTION:When Phyllis Webstad went to St. Joseph’s Residential School for the first time\, she took with her a shiny new orange shirt that her grandmother bought for her. That shirt was taken away and never returned and has become a symbol of the Every Child Matters movement. On September 30th\, we remember and recognize the survivors of residential schools. The Perth & District Union Public Library is honoured to support this movement with a live Storytime in our garden. Francine Desjardins will share stories and songs that celebrate Indigenous culture.\nThe program will run for 1 hour and starts at 10:30 am. \nRegistration not required drop in! \nIf you prefer to join from the comfort of your home\, sign up for the Zoom link here.
URL:https://www.perthunionlibrary.ca/event/orange-shirt-day-storytime/
LOCATION:Library Garden – Perth & District Union Public Library\, 30 Herriott St\, Perth\, ON\, K7H 1T2\, Canada
CATEGORIES:Adult,Babies & Toddlers,Children,Teen
ATTACH;FMTTYPE=image/png:https://www.perthunionlibrary.ca/wp-content/uploads/2024/08/Orange-Shirt-Day.png
END:VEVENT
END:VCALENDAR