BEGIN:VCALENDAR
VERSION:2.0
PRODID:-//Perth Union Library - ECPv6.15.20//NONSGML v1.0//EN
CALSCALE:GREGORIAN
METHOD:PUBLISH
X-WR-CALNAME:Perth Union Library
X-ORIGINAL-URL:https://www.perthunionlibrary.ca
X-WR-CALDESC:Events for Perth Union Library
REFRESH-INTERVAL;VALUE=DURATION:PT1H
X-Robots-Tag:noindex
X-PUBLISHED-TTL:PT1H
BEGIN:VTIMEZONE
TZID:America/Toronto
BEGIN:DAYLIGHT
TZOFFSETFROM:-0500
TZOFFSETTO:-0400
TZNAME:EDT
DTSTART:20240310T070000
END:DAYLIGHT
BEGIN:STANDARD
TZOFFSETFROM:-0400
TZOFFSETTO:-0500
TZNAME:EST
DTSTART:20241103T060000
END:STANDARD
BEGIN:DAYLIGHT
TZOFFSETFROM:-0500
TZOFFSETTO:-0400
TZNAME:EDT
DTSTART:20250309T070000
END:DAYLIGHT
BEGIN:STANDARD
TZOFFSETFROM:-0400
TZOFFSETTO:-0500
TZNAME:EST
DTSTART:20251102T060000
END:STANDARD
BEGIN:DAYLIGHT
TZOFFSETFROM:-0500
TZOFFSETTO:-0400
TZNAME:EDT
DTSTART:20260308T070000
END:DAYLIGHT
BEGIN:STANDARD
TZOFFSETFROM:-0400
TZOFFSETTO:-0500
TZNAME:EST
DTSTART:20261101T060000
END:STANDARD
END:VTIMEZONE
BEGIN:VEVENT
DTSTART;VALUE=DATE:20250103
DTEND;VALUE=DATE:20250104
DTSTAMP:20260422T150048
CREATED:20241128T195155Z
LAST-MODIFIED:20241128T195545Z
UID:27470-1735862400-1735948799@www.perthunionlibrary.ca
SUMMARY:Film Club Fridays @ Studio Theatre Perth
DESCRIPTION:Screenings are on select Fridays 2pm & 7pm.\nRegular film admission at the door is $12  cash (debit or credit).\nYou can also buy a film pass. Film passes are $50 for 5 films of your choice.\nFilm Club passes are available for purchase at the box office or at the Perth & District Library (please note that the library only accepts cash or cheque). \nTo learn what’s playing visit https://studiotheatreperth.com/film-club-fridays/ \n  \nFilm Club Fridays is a fundraiser of the Perth & District Library. Thank you for your support!
URL:https://www.perthunionlibrary.ca/event/film-club-fridays-studio-theatre-perth-6/
LOCATION:Studio Theatre Perth\, 63 Gore St E\, Perth\, ON\, K7H 1H8\, Canada
CATEGORIES:Adult,Seniors,Teen
ATTACH;FMTTYPE=image/jpeg:https://www.perthunionlibrary.ca/wp-content/uploads/2024/08/WORKOUT-1.jpg
END:VEVENT
BEGIN:VEVENT
DTSTART;TZID=America/Toronto:20250107T144500
DTEND;TZID=America/Toronto:20250107T154500
DTSTAMP:20260422T150048
CREATED:20241012T155456Z
LAST-MODIFIED:20241012T155500Z
UID:26952-1736261100-1736264700@www.perthunionlibrary.ca
SUMMARY:Teen Book Club
DESCRIPTION:Do you love reading and snacks? Join Teen book club to read\, snack and hang out at the library! \nemail htaber@perthunionlibrary.ca if you would like to join.
URL:https://www.perthunionlibrary.ca/event/teen-book-club-13-3/
LOCATION:Frizell (Program) Room – Perth & District Union Public Library\, 30 Herriott St\, Perth\, Ontario\, K7H 1T2\, Canada
CATEGORIES:Teen
ATTACH;FMTTYPE=image/png:https://www.perthunionlibrary.ca/wp-content/uploads/2024/08/teenBook-club-2.png
ORGANIZER;CN="Perth & District Library":MAILTO:info@perthunionlibrary.ca
END:VEVENT
BEGIN:VEVENT
DTSTART;TZID=America/Toronto:20250111T103000
DTEND;TZID=America/Toronto:20250111T120000
DTSTAMP:20260422T150048
CREATED:20241209T134001Z
LAST-MODIFIED:20241209T134001Z
UID:27560-1736591400-1736596800@www.perthunionlibrary.ca
SUMMARY:SCRATCH: Stem workshop for grades 3-8
DESCRIPTION:Sandra Theobald is returning to facilate a wonderful variety of Stem workshops. Each day is a stand alone workshop and you may register for which dates you like. \n 
URL:https://www.perthunionlibrary.ca/event/scratch-stem-workshop-for-grades-3-8-4/
LOCATION:Frizell (Program) Room – Perth & District Union Public Library\, 30 Herriott St\, Perth\, Ontario\, K7H 1T2\, Canada
CATEGORIES:Children,Teen
ATTACH;FMTTYPE=image/png:https://www.perthunionlibrary.ca/wp-content/uploads/2024/12/Jan.-Feb.-Library-Poster-2025.png
ORGANIZER;CN="Perth & District Library":MAILTO:info@perthunionlibrary.ca
END:VEVENT
BEGIN:VEVENT
DTSTART;TZID=America/Toronto:20250114T150000
DTEND;TZID=America/Toronto:20250114T170000
DTSTAMP:20260422T150048
CREATED:20241125T155750Z
LAST-MODIFIED:20241125T155750Z
UID:27426-1736866800-1736874000@www.perthunionlibrary.ca
SUMMARY:Seed Sorting Volunteer Workshop
DESCRIPTION:Come help us sort seeds for this years upcoming seed library! Sign up below.
URL:https://www.perthunionlibrary.ca/event/seed-sorting-volunteer-workshop-4/
LOCATION:Frizell (Program) Room – Perth & District Union Public Library\, 30 Herriott St\, Perth\, Ontario\, K7H 1T2\, Canada
CATEGORIES:Adult,Seniors,Teen
ATTACH;FMTTYPE=image/jpeg:https://www.perthunionlibrary.ca/wp-content/uploads/2024/11/Untitled-design-24.jpg
ORGANIZER;CN="Perth & District Library":MAILTO:info@perthunionlibrary.ca
END:VEVENT
BEGIN:VEVENT
DTSTART;TZID=America/Toronto:20250115T133000
DTEND;TZID=America/Toronto:20250115T150000
DTSTAMP:20260422T150048
CREATED:20241128T175640Z
LAST-MODIFIED:20241128T180723Z
UID:27465-1736947800-1736953200@www.perthunionlibrary.ca
SUMMARY:Meditation and Associated Practices
DESCRIPTION:Mary Lou Mongeau guides participants through meditation and associated practices\, including practical techniques for growth\, self healing\, becoming aware of our true self\, and alignment with the Universal Consciousness. \nIn a session you might explore \n\nmeditation\nenergy centers\nbalancing techniques\ndreams and synchronicity\njournal keeping\nan energy perspective on relationships\nreactions to a process of change\nassuming responsibility\n\nDrop-in sessions. All are welcome!
URL:https://www.perthunionlibrary.ca/event/meditation-and-associated-practices-2/
LOCATION:Frizell (Program) Room – Perth & District Union Public Library\, 30 Herriott St\, Perth\, Ontario\, K7H 1T2\, Canada
CATEGORIES:Adult,Seniors,Teen
ATTACH;FMTTYPE=image/jpeg:https://www.perthunionlibrary.ca/wp-content/uploads/2024/09/Meditation-Associated-Processes-Twitter-Post.jpg
ORGANIZER;CN="Perth & District Library":MAILTO:info@perthunionlibrary.ca
END:VEVENT
BEGIN:VEVENT
DTSTART;TZID=America/Toronto:20250121T150000
DTEND;TZID=America/Toronto:20250121T170000
DTSTAMP:20260422T150048
CREATED:20241125T155850Z
LAST-MODIFIED:20241125T160416Z
UID:27434-1737471600-1737478800@www.perthunionlibrary.ca
SUMMARY:Seed Sorting Volunteer Workshop
DESCRIPTION:Come help us sort seeds for this year’s upcoming seed library! Sign up below.
URL:https://www.perthunionlibrary.ca/event/seed-sorting-volunteer-workshop-5/
LOCATION:Frizell (Program) Room – Perth & District Union Public Library\, 30 Herriott St\, Perth\, Ontario\, K7H 1T2\, Canada
CATEGORIES:Adult,Seniors,Teen
ATTACH;FMTTYPE=image/jpeg:https://www.perthunionlibrary.ca/wp-content/uploads/2024/11/Untitled-design-24.jpg
ORGANIZER;CN="Perth & District Library":MAILTO:info@perthunionlibrary.ca
END:VEVENT
BEGIN:VEVENT
DTSTART;TZID=America/Toronto:20250125T103000
DTEND;TZID=America/Toronto:20250125T120000
DTSTAMP:20260422T150048
CREATED:20241209T133940Z
LAST-MODIFIED:20241209T133940Z
UID:27564-1737801000-1737806400@www.perthunionlibrary.ca
SUMMARY:SCRATCH: Stem workshop for grades 3-8
DESCRIPTION:Sandra Theobald is returning to facilate a wonderful variety of Stem workshops. Each day is a stand alone workshop and you may register for which dates you like. \n 
URL:https://www.perthunionlibrary.ca/event/scratch-stem-workshop-for-grades-3-8-3/
LOCATION:Frizell (Program) Room – Perth & District Union Public Library\, 30 Herriott St\, Perth\, Ontario\, K7H 1T2\, Canada
CATEGORIES:Children,Teen
ATTACH;FMTTYPE=image/png:https://www.perthunionlibrary.ca/wp-content/uploads/2024/12/Jan.-Feb.-Library-Poster-2025.png
ORGANIZER;CN="Perth & District Library":MAILTO:info@perthunionlibrary.ca
END:VEVENT
BEGIN:VEVENT
DTSTART;TZID=America/Toronto:20250125T123000
DTEND;TZID=America/Toronto:20250125T153000
DTSTAMP:20260422T150048
CREATED:20241125T160120Z
LAST-MODIFIED:20241125T160338Z
UID:27438-1737808200-1737819000@www.perthunionlibrary.ca
SUMMARY:Seed Sorting Volunteer Workshop
DESCRIPTION:Come help us sort seeds for this year’s upcoming seed library! Sign up below.
URL:https://www.perthunionlibrary.ca/event/seed-sorting-volunteer-workshop-6/
LOCATION:Common Room – Perth & District Union Public Library\, 30 Herriott St\, Perth\, Ontario\, K7H 1T2\, Canada
CATEGORIES:Adult,Seniors,Teen
ATTACH;FMTTYPE=image/jpeg:https://www.perthunionlibrary.ca/wp-content/uploads/2024/11/Untitled-design-24.jpg
ORGANIZER;CN="Perth & District Library":MAILTO:info@perthunionlibrary.ca
END:VEVENT
BEGIN:VEVENT
DTSTART;TZID=America/Toronto:20250128T150000
DTEND;TZID=America/Toronto:20250128T170000
DTSTAMP:20260422T150048
CREATED:20241125T160548Z
LAST-MODIFIED:20250122T185407Z
UID:27445-1738076400-1738083600@www.perthunionlibrary.ca
SUMMARY:Seed Sorting Volunteer Workshop
DESCRIPTION:Come help us sort seeds for this year’s upcoming seed library! Sign up below.
URL:https://www.perthunionlibrary.ca/event/seed-sorting-volunteer-workshop-7/
LOCATION:Common Room – Perth & District Union Public Library\, 30 Herriott St\, Perth\, Ontario\, K7H 1T2\, Canada
CATEGORIES:Adult,Seniors,Teen
ATTACH;FMTTYPE=image/jpeg:https://www.perthunionlibrary.ca/wp-content/uploads/2024/11/Untitled-design-24.jpg
ORGANIZER;CN="Perth & District Library":MAILTO:info@perthunionlibrary.ca
END:VEVENT
BEGIN:VEVENT
DTSTART;TZID=America/Toronto:20250129T133000
DTEND;TZID=America/Toronto:20250129T150000
DTSTAMP:20260422T150048
CREATED:20250128T154939Z
LAST-MODIFIED:20250128T154943Z
UID:28045-1738157400-1738162800@www.perthunionlibrary.ca
SUMMARY:Meditation and Associated Practices
DESCRIPTION:Mary Lou Mongeau guides participants through meditation and associated practices\, including practical techniques for growth\, self healing\, becoming aware of our true self\, and alignment with the Universal Consciousness. \nIn a session you might explore \n\nmeditation\nenergy centers\nbalancing techniques\ndreams and synchronicity\njournal keeping\nan energy perspective on relationships\nreactions to a process of change\nassuming responsibility\n\nDrop-in sessions. All are welcome!
URL:https://www.perthunionlibrary.ca/event/meditation-and-associated-practices-2-2/
LOCATION:Frizell (Program) Room – Perth & District Union Public Library\, 30 Herriott St\, Perth\, Ontario\, K7H 1T2\, Canada
CATEGORIES:Adult,Seniors,Teen
ATTACH;FMTTYPE=image/jpeg:https://www.perthunionlibrary.ca/wp-content/uploads/2024/09/Meditation-Associated-Processes-Twitter-Post.jpg
ORGANIZER;CN="Perth & District Library":MAILTO:info@perthunionlibrary.ca
END:VEVENT
END:VCALENDAR