BEGIN:VCALENDAR
VERSION:2.0
PRODID:-//Perth Union Library - ECPv6.15.20//NONSGML v1.0//EN
CALSCALE:GREGORIAN
METHOD:PUBLISH
X-ORIGINAL-URL:https://www.perthunionlibrary.ca
X-WR-CALDESC:Events for Perth Union Library
REFRESH-INTERVAL;VALUE=DURATION:PT1H
X-Robots-Tag:noindex
X-PUBLISHED-TTL:PT1H
BEGIN:VTIMEZONE
TZID:America/Toronto
BEGIN:DAYLIGHT
TZOFFSETFROM:-0500
TZOFFSETTO:-0400
TZNAME:EDT
DTSTART:20240310T070000
END:DAYLIGHT
BEGIN:STANDARD
TZOFFSETFROM:-0400
TZOFFSETTO:-0500
TZNAME:EST
DTSTART:20241103T060000
END:STANDARD
BEGIN:DAYLIGHT
TZOFFSETFROM:-0500
TZOFFSETTO:-0400
TZNAME:EDT
DTSTART:20250309T070000
END:DAYLIGHT
BEGIN:STANDARD
TZOFFSETFROM:-0400
TZOFFSETTO:-0500
TZNAME:EST
DTSTART:20251102T060000
END:STANDARD
BEGIN:DAYLIGHT
TZOFFSETFROM:-0500
TZOFFSETTO:-0400
TZNAME:EDT
DTSTART:20260308T070000
END:DAYLIGHT
BEGIN:STANDARD
TZOFFSETFROM:-0400
TZOFFSETTO:-0500
TZNAME:EST
DTSTART:20261101T060000
END:STANDARD
END:VTIMEZONE
BEGIN:VEVENT
DTSTART;VALUE=DATE:20250207
DTEND;VALUE=DATE:20250208
DTSTAMP:20260422T132825
CREATED:20241128T195351Z
LAST-MODIFIED:20241128T200739Z
UID:27472-1738886400-1738972799@www.perthunionlibrary.ca
SUMMARY:Film Club Fridays @ Studio Theatre Perth
DESCRIPTION:Screenings are on select Fridays 2pm & 7pm.\nRegular film admission at the door is $12  cash (debit or credit).\nYou can also buy a film pass. Film passes are $50 for 5 films of your choice.\nFilm Club passes are available for purchase at the box office or at the Perth & District Library (please note that the library only accepts cash or cheque). \nTo learn what’s playing visit https://studiotheatreperth.com/film-club-fridays/ \n  \nFilm Club Fridays is a fundraiser of the Perth & District Library. Thank you for your support!
URL:https://www.perthunionlibrary.ca/event/film-club-fridays-studio-theatre-perth-7/
LOCATION:Studio Theatre Perth\, 63 Gore St E\, Perth\, ON\, K7H 1H8\, Canada
CATEGORIES:Adult,Seniors,Teen
ATTACH;FMTTYPE=image/jpeg:https://www.perthunionlibrary.ca/wp-content/uploads/2024/08/WORKOUT-1.jpg
END:VEVENT
BEGIN:VEVENT
DTSTART;TZID=America/Toronto:20250208T103000
DTEND;TZID=America/Toronto:20250208T120000
DTSTAMP:20260422T132825
CREATED:20241209T134226Z
LAST-MODIFIED:20241209T134226Z
UID:27567-1739010600-1739016000@www.perthunionlibrary.ca
SUMMARY:SCRATCH: Stem workshop for grades 3-8
DESCRIPTION:Sandra Theobald is returning to facilate a wonderful variety of Stem workshops. Each day is a stand alone workshop and you may register for which dates you like. \n 
URL:https://www.perthunionlibrary.ca/event/scratch-stem-workshop-for-grades-3-8-5/
LOCATION:Frizell (Program) Room – Perth & District Union Public Library\, 30 Herriott St\, Perth\, Ontario\, K7H 1T2\, Canada
CATEGORIES:Children,Teen
ATTACH;FMTTYPE=image/png:https://www.perthunionlibrary.ca/wp-content/uploads/2024/12/Jan.-Feb.-Library-Poster-2025.png
ORGANIZER;CN="Perth & District Library":MAILTO:info@perthunionlibrary.ca
END:VEVENT
BEGIN:VEVENT
DTSTART;TZID=America/Toronto:20250211T144500
DTEND;TZID=America/Toronto:20250211T154500
DTSTAMP:20260422T132825
CREATED:20241012T155704Z
LAST-MODIFIED:20241012T155707Z
UID:26954-1739285100-1739288700@www.perthunionlibrary.ca
SUMMARY:Teen Book Club
DESCRIPTION:Do you love reading and snacks? Join Teen book club to read\, snack and hang out at the library! \nemail htaber@perthunionlibrary.ca if you would like to join.
URL:https://www.perthunionlibrary.ca/event/teen-book-club-13-4/
LOCATION:Frizell (Program) Room – Perth & District Union Public Library\, 30 Herriott St\, Perth\, Ontario\, K7H 1T2\, Canada
CATEGORIES:Teen
ATTACH;FMTTYPE=image/png:https://www.perthunionlibrary.ca/wp-content/uploads/2024/08/teenBook-club-2.png
ORGANIZER;CN="Perth & District Library":MAILTO:info@perthunionlibrary.ca
END:VEVENT
BEGIN:VEVENT
DTSTART;TZID=America/Toronto:20250115T133000
DTEND;TZID=America/Toronto:20250115T150000
DTSTAMP:20260422T132825
CREATED:20241128T175640Z
LAST-MODIFIED:20241128T180723Z
UID:27465-1736947800-1736953200@www.perthunionlibrary.ca
SUMMARY:Meditation and Associated Practices
DESCRIPTION:Mary Lou Mongeau guides participants through meditation and associated practices\, including practical techniques for growth\, self healing\, becoming aware of our true self\, and alignment with the Universal Consciousness. \nIn a session you might explore \n\nmeditation\nenergy centers\nbalancing techniques\ndreams and synchronicity\njournal keeping\nan energy perspective on relationships\nreactions to a process of change\nassuming responsibility\n\nDrop-in sessions. All are welcome!
URL:https://www.perthunionlibrary.ca/event/meditation-and-associated-practices-2/
LOCATION:Frizell (Program) Room – Perth & District Union Public Library\, 30 Herriott St\, Perth\, Ontario\, K7H 1T2\, Canada
CATEGORIES:Adult,Seniors,Teen
ATTACH;FMTTYPE=image/jpeg:https://www.perthunionlibrary.ca/wp-content/uploads/2024/09/Meditation-Associated-Processes-Twitter-Post.jpg
ORGANIZER;CN="Perth & District Library":MAILTO:info@perthunionlibrary.ca
END:VEVENT
BEGIN:VEVENT
DTSTART;TZID=America/Toronto:20250215T130000
DTEND;TZID=America/Toronto:20250215T153000
DTSTAMP:20260422T132825
CREATED:20250118T145028Z
LAST-MODIFIED:20250118T145028Z
UID:27960-1739624400-1739633400@www.perthunionlibrary.ca
SUMMARY:Meet the artist: Maureen McNeil
DESCRIPTION:Join us in the stacks for a meet and greet and live painting demonstration with exhibiting artist Maureen McNeil. \nChildren will have the opportunity to paint with Maureen!\nThis is an informal\, drop-in event; no registration required.\nCoffee\, tea\, and hot chocolate will be served!
URL:https://www.perthunionlibrary.ca/event/meet-the-artist-maureen-mcneil/
LOCATION:Perth & District Union Public Library\, 30 Herriott Street\, Perth\, Ontario\, K7H 1T2\, Canada
CATEGORIES:Adult,Children,Seniors,Teen
ATTACH;FMTTYPE=image/jpeg:https://www.perthunionlibrary.ca/wp-content/uploads/2025/01/Maureen-mcneil.jpg
ORGANIZER;CN="Perth & District Library":MAILTO:info@perthunionlibrary.ca
END:VEVENT
BEGIN:VEVENT
DTSTART;TZID=America/Toronto:20250222T103000
DTEND;TZID=America/Toronto:20250222T120000
DTSTAMP:20260422T132825
CREATED:20241209T134339Z
LAST-MODIFIED:20241209T134339Z
UID:27570-1740220200-1740225600@www.perthunionlibrary.ca
SUMMARY:SCRATCH: Stem workshop for grades 3-8
DESCRIPTION:Sandra Theobald is returning to facilate a wonderful variety of Stem workshops. Each day is a stand alone workshop and you may register for which dates you like. \n 
URL:https://www.perthunionlibrary.ca/event/scratch-stem-workshop-for-grades-3-8-6/
LOCATION:Frizell (Program) Room – Perth & District Union Public Library\, 30 Herriott St\, Perth\, Ontario\, K7H 1T2\, Canada
CATEGORIES:Children,Teen
ATTACH;FMTTYPE=image/png:https://www.perthunionlibrary.ca/wp-content/uploads/2024/12/Jan.-Feb.-Library-Poster-2025.png
ORGANIZER;CN="Perth & District Library":MAILTO:info@perthunionlibrary.ca
END:VEVENT
BEGIN:VEVENT
DTSTART;TZID=America/Toronto:20250115T133000
DTEND;TZID=America/Toronto:20250115T150000
DTSTAMP:20260422T132825
CREATED:20241128T175640Z
LAST-MODIFIED:20241128T180723Z
UID:27465-1736947800-1736953200@www.perthunionlibrary.ca
SUMMARY:Meditation and Associated Practices
DESCRIPTION:Mary Lou Mongeau guides participants through meditation and associated practices\, including practical techniques for growth\, self healing\, becoming aware of our true self\, and alignment with the Universal Consciousness. \nIn a session you might explore \n\nmeditation\nenergy centers\nbalancing techniques\ndreams and synchronicity\njournal keeping\nan energy perspective on relationships\nreactions to a process of change\nassuming responsibility\n\nDrop-in sessions. All are welcome!
URL:https://www.perthunionlibrary.ca/event/meditation-and-associated-practices-2/
LOCATION:Frizell (Program) Room – Perth & District Union Public Library\, 30 Herriott St\, Perth\, Ontario\, K7H 1T2\, Canada
CATEGORIES:Adult,Seniors,Teen
ATTACH;FMTTYPE=image/jpeg:https://www.perthunionlibrary.ca/wp-content/uploads/2024/09/Meditation-Associated-Processes-Twitter-Post.jpg
ORGANIZER;CN="Perth & District Library":MAILTO:info@perthunionlibrary.ca
END:VEVENT
END:VCALENDAR