BEGIN:VCALENDAR
VERSION:2.0
PRODID:-//Perth Union Library - ECPv6.15.20//NONSGML v1.0//EN
CALSCALE:GREGORIAN
METHOD:PUBLISH
X-WR-CALNAME:Perth Union Library
X-ORIGINAL-URL:https://www.perthunionlibrary.ca
X-WR-CALDESC:Events for Perth Union Library
REFRESH-INTERVAL;VALUE=DURATION:PT1H
X-Robots-Tag:noindex
X-PUBLISHED-TTL:PT1H
BEGIN:VTIMEZONE
TZID:America/Toronto
BEGIN:DAYLIGHT
TZOFFSETFROM:-0500
TZOFFSETTO:-0400
TZNAME:EDT
DTSTART:20230312T070000
END:DAYLIGHT
BEGIN:STANDARD
TZOFFSETFROM:-0400
TZOFFSETTO:-0500
TZNAME:EST
DTSTART:20231105T060000
END:STANDARD
BEGIN:DAYLIGHT
TZOFFSETFROM:-0500
TZOFFSETTO:-0400
TZNAME:EDT
DTSTART:20240310T070000
END:DAYLIGHT
BEGIN:STANDARD
TZOFFSETFROM:-0400
TZOFFSETTO:-0500
TZNAME:EST
DTSTART:20241103T060000
END:STANDARD
BEGIN:DAYLIGHT
TZOFFSETFROM:-0500
TZOFFSETTO:-0400
TZNAME:EDT
DTSTART:20250309T070000
END:DAYLIGHT
BEGIN:STANDARD
TZOFFSETFROM:-0400
TZOFFSETTO:-0500
TZNAME:EST
DTSTART:20251102T060000
END:STANDARD
BEGIN:DAYLIGHT
TZOFFSETFROM:-0500
TZOFFSETTO:-0400
TZNAME:EDT
DTSTART:20260308T070000
END:DAYLIGHT
BEGIN:STANDARD
TZOFFSETFROM:-0400
TZOFFSETTO:-0500
TZNAME:EST
DTSTART:20261101T060000
END:STANDARD
END:VTIMEZONE
BEGIN:VEVENT
DTSTART;TZID=America/Toronto:20250503T103000
DTEND;TZID=America/Toronto:20250503T120000
DTSTAMP:20260422T085320
CREATED:20250423T170549Z
LAST-MODIFIED:20250423T170549Z
UID:29033-1746268200-1746273600@www.perthunionlibrary.ca
SUMMARY:Code Club
DESCRIPTION:Code Club for grades 3-8 \nWould you like to learn how to make your ideas a reality? \nAt Code Club\, you can learn how to make cool games\, animations and websites too! Learn more: Code Club \nReserve a spot below!
URL:https://www.perthunionlibrary.ca/event/code-club-3/
LOCATION:Frizell (Program) Room – Perth & District Union Public Library\, 30 Herriott St\, Perth\, Ontario\, K7H 1T2\, Canada
CATEGORIES:Children,Teen
ATTACH;FMTTYPE=image/png:https://www.perthunionlibrary.ca/wp-content/uploads/2025/04/Perth-library-code-club-8.5-x-11-in-1.png
ORGANIZER;CN="Perth & District Library":MAILTO:info@perthunionlibrary.ca
END:VEVENT
BEGIN:VEVENT
DTSTART;TZID=America/Toronto:20240910T144500
DTEND;TZID=America/Toronto:20240910T154500
DTSTAMP:20260422T085320
CREATED:20240819T182359Z
LAST-MODIFIED:20240819T183111Z
UID:26378-1725979500-1725983100@www.perthunionlibrary.ca
SUMMARY:Teen Book Club
DESCRIPTION:Do you love reading and snacks? Join Teen book club to read\, snack and hang out at the library! \nemail htaber@perthunionlibrary.ca if you would like to join.
URL:https://www.perthunionlibrary.ca/event/teen-book-club-13/
LOCATION:Frizell (Program) Room – Perth & District Union Public Library\, 30 Herriott St\, Perth\, Ontario\, K7H 1T2\, Canada
CATEGORIES:Teen
ATTACH;FMTTYPE=image/png:https://www.perthunionlibrary.ca/wp-content/uploads/2024/08/teenBook-club-2.png
ORGANIZER;CN="Perth & District Library":MAILTO:info@perthunionlibrary.ca
END:VEVENT
BEGIN:VEVENT
DTSTART;TZID=America/Toronto:20250115T133000
DTEND;TZID=America/Toronto:20250115T150000
DTSTAMP:20260422T085320
CREATED:20241128T175640Z
LAST-MODIFIED:20241128T180723Z
UID:27465-1736947800-1736953200@www.perthunionlibrary.ca
SUMMARY:Meditation and Associated Practices
DESCRIPTION:Mary Lou Mongeau guides participants through meditation and associated practices\, including practical techniques for growth\, self healing\, becoming aware of our true self\, and alignment with the Universal Consciousness. \nIn a session you might explore \n\nmeditation\nenergy centers\nbalancing techniques\ndreams and synchronicity\njournal keeping\nan energy perspective on relationships\nreactions to a process of change\nassuming responsibility\n\nDrop-in sessions. All are welcome!
URL:https://www.perthunionlibrary.ca/event/meditation-and-associated-practices-2/
LOCATION:Frizell (Program) Room – Perth & District Union Public Library\, 30 Herriott St\, Perth\, Ontario\, K7H 1T2\, Canada
CATEGORIES:Adult,Seniors,Teen
ATTACH;FMTTYPE=image/jpeg:https://www.perthunionlibrary.ca/wp-content/uploads/2024/09/Meditation-Associated-Processes-Twitter-Post.jpg
ORGANIZER;CN="Perth & District Library":MAILTO:info@perthunionlibrary.ca
END:VEVENT
BEGIN:VEVENT
DTSTART;VALUE=DATE:20250516
DTEND;VALUE=DATE:20250517
DTSTAMP:20260422T085320
CREATED:20241128T195633Z
LAST-MODIFIED:20241128T200755Z
UID:27476-1747353600-1747439999@www.perthunionlibrary.ca
SUMMARY:Film Club Fridays @ Studio Theatre Perth
DESCRIPTION:Screenings are on select Fridays 2pm & 7pm.\nRegular film admission at the door is $12  cash (debit or credit).\nYou can also buy a film pass. Film passes are $50 for 5 films of your choice.\nFilm Club passes are available for purchase at the box office or at the Perth & District Library (please note that the library only accepts cash or cheque). \nTo learn what’s playing visit https://studiotheatreperth.com/film-club-fridays/ \n  \nFilm Club Fridays is a fundraiser of the Perth & District Library. Thank you for your support!
URL:https://www.perthunionlibrary.ca/event/film-club-fridays-studio-theatre-perth-9/
LOCATION:Studio Theatre Perth\, 63 Gore St E\, Perth\, ON\, K7H 1H8\, Canada
CATEGORIES:Adult,Seniors,Teen
ATTACH;FMTTYPE=image/jpeg:https://www.perthunionlibrary.ca/wp-content/uploads/2024/08/WORKOUT-1.jpg
END:VEVENT
BEGIN:VEVENT
DTSTART;TZID=America/Toronto:20250517T100000
DTEND;TZID=America/Toronto:20250517T113000
DTSTAMP:20260422T085320
CREATED:20250506T132330Z
LAST-MODIFIED:20250506T132330Z
UID:29107-1747476000-1747481400@www.perthunionlibrary.ca
SUMMARY:Rideau Eco Literacy Center presents: Nature Journaling
DESCRIPTION:Nature Journaling is collecting and organizing your environmental observations\, questions\, ideas\, and knowledge through art and words. You will receive your own special Field Notes Journal\, which will contain space for your artwork\, as well as tips and tricks to record the beauty and power of nature. You do not need to be an artist or a naturalist to begin. Bring your favorite drawing materials if you like\, but everything you need will be provided.
URL:https://www.perthunionlibrary.ca/event/rideau-eco-literacy-center-presents-nature-journaling/
LOCATION:Frizell (Program) Room – Perth & District Union Public Library\, 30 Herriott St\, Perth\, Ontario\, K7H 1T2\, Canada
CATEGORIES:Adult,Children,Teen
ATTACH;FMTTYPE=image/jpeg:https://www.perthunionlibrary.ca/wp-content/uploads/2025/05/Visual-for-Nature-Journaling-Workshop.jpg
ORGANIZER;CN="Perth & District Library":MAILTO:info@perthunionlibrary.ca
END:VEVENT
BEGIN:VEVENT
DTSTART;TZID=America/Toronto:20250115T133000
DTEND;TZID=America/Toronto:20250115T150000
DTSTAMP:20260422T085320
CREATED:20241128T175640Z
LAST-MODIFIED:20241128T180723Z
UID:27465-1736947800-1736953200@www.perthunionlibrary.ca
SUMMARY:Meditation and Associated Practices
DESCRIPTION:Mary Lou Mongeau guides participants through meditation and associated practices\, including practical techniques for growth\, self healing\, becoming aware of our true self\, and alignment with the Universal Consciousness. \nIn a session you might explore \n\nmeditation\nenergy centers\nbalancing techniques\ndreams and synchronicity\njournal keeping\nan energy perspective on relationships\nreactions to a process of change\nassuming responsibility\n\nDrop-in sessions. All are welcome!
URL:https://www.perthunionlibrary.ca/event/meditation-and-associated-practices-2/
LOCATION:Frizell (Program) Room – Perth & District Union Public Library\, 30 Herriott St\, Perth\, Ontario\, K7H 1T2\, Canada
CATEGORIES:Adult,Seniors,Teen
ATTACH;FMTTYPE=image/jpeg:https://www.perthunionlibrary.ca/wp-content/uploads/2024/09/Meditation-Associated-Processes-Twitter-Post.jpg
ORGANIZER;CN="Perth & District Library":MAILTO:info@perthunionlibrary.ca
END:VEVENT
BEGIN:VEVENT
DTSTART;TZID=America/Toronto:20250523T143000
DTEND;TZID=America/Toronto:20250523T163000
DTSTAMP:20260422T085320
CREATED:20250425T185713Z
LAST-MODIFIED:20250425T190323Z
UID:29061-1748010600-1748017800@www.perthunionlibrary.ca
SUMMARY:Safer together presents.....Fibre Arts Workshop with Maybe!
DESCRIPTION:Vist the Library after school for snacks\, chats and crafts! Help decorate the teen section with art that shows what the library means to you! \nDROP IN! \n 
URL:https://www.perthunionlibrary.ca/event/safer-together-presents-fibre-arts-workshop-with-maybe/
LOCATION:Frizell (Program) Room – Perth & District Union Public Library\, 30 Herriott St\, Perth\, Ontario\, K7H 1T2\, Canada
CATEGORIES:Teen
ATTACH;FMTTYPE=image/png:https://www.perthunionlibrary.ca/wp-content/uploads/2025/04/Teen-Library-Workshop-Poster-May-June-2025-1.png
ORGANIZER;CN="Perth & District Library":MAILTO:info@perthunionlibrary.ca
END:VEVENT
BEGIN:VEVENT
DTSTART;TZID=America/Toronto:20250524T103000
DTEND;TZID=America/Toronto:20250524T120000
DTSTAMP:20260422T085320
CREATED:20250423T170806Z
LAST-MODIFIED:20250423T170806Z
UID:29037-1748082600-1748088000@www.perthunionlibrary.ca
SUMMARY:Code Club
DESCRIPTION:Code Club for grades 3-8 \nWould you like to learn how to make your ideas a reality? \nAt Code Club\, you can learn how to make cool games\, animations and websites too! Learn more: Code Club \nReserve a spot below!
URL:https://www.perthunionlibrary.ca/event/code-club-4/
LOCATION:Frizell (Program) Room – Perth & District Union Public Library\, 30 Herriott St\, Perth\, Ontario\, K7H 1T2\, Canada
CATEGORIES:Children,Teen
ATTACH;FMTTYPE=image/png:https://www.perthunionlibrary.ca/wp-content/uploads/2025/04/Perth-library-code-club-8.5-x-11-in-1.png
ORGANIZER;CN="Perth & District Library":MAILTO:info@perthunionlibrary.ca
END:VEVENT
END:VCALENDAR