BEGIN:VCALENDAR
VERSION:2.0
PRODID:-//Perth Union Library - ECPv6.15.20//NONSGML v1.0//EN
CALSCALE:GREGORIAN
METHOD:PUBLISH
X-WR-CALNAME:Perth Union Library
X-ORIGINAL-URL:https://www.perthunionlibrary.ca
X-WR-CALDESC:Events for Perth Union Library
REFRESH-INTERVAL;VALUE=DURATION:PT1H
X-Robots-Tag:noindex
X-PUBLISHED-TTL:PT1H
BEGIN:VTIMEZONE
TZID:America/Toronto
BEGIN:DAYLIGHT
TZOFFSETFROM:-0500
TZOFFSETTO:-0400
TZNAME:EDT
DTSTART:20230312T070000
END:DAYLIGHT
BEGIN:STANDARD
TZOFFSETFROM:-0400
TZOFFSETTO:-0500
TZNAME:EST
DTSTART:20231105T060000
END:STANDARD
BEGIN:DAYLIGHT
TZOFFSETFROM:-0500
TZOFFSETTO:-0400
TZNAME:EDT
DTSTART:20240310T070000
END:DAYLIGHT
BEGIN:STANDARD
TZOFFSETFROM:-0400
TZOFFSETTO:-0500
TZNAME:EST
DTSTART:20241103T060000
END:STANDARD
BEGIN:DAYLIGHT
TZOFFSETFROM:-0500
TZOFFSETTO:-0400
TZNAME:EDT
DTSTART:20250309T070000
END:DAYLIGHT
BEGIN:STANDARD
TZOFFSETFROM:-0400
TZOFFSETTO:-0500
TZNAME:EST
DTSTART:20251102T060000
END:STANDARD
BEGIN:DAYLIGHT
TZOFFSETFROM:-0500
TZOFFSETTO:-0400
TZNAME:EDT
DTSTART:20260308T070000
END:DAYLIGHT
BEGIN:STANDARD
TZOFFSETFROM:-0400
TZOFFSETTO:-0500
TZNAME:EST
DTSTART:20261101T060000
END:STANDARD
END:VTIMEZONE
BEGIN:VEVENT
DTSTART;TZID=America/Toronto:20240910T144500
DTEND;TZID=America/Toronto:20240910T154500
DTSTAMP:20260422T072155
CREATED:20240819T182359Z
LAST-MODIFIED:20240819T183111Z
UID:26378-1725979500-1725983100@www.perthunionlibrary.ca
SUMMARY:Teen Book Club
DESCRIPTION:Do you love reading and snacks? Join Teen book club to read\, snack and hang out at the library! \nemail htaber@perthunionlibrary.ca if you would like to join.
URL:https://www.perthunionlibrary.ca/event/teen-book-club-13/
LOCATION:Frizell (Program) Room – Perth & District Union Public Library\, 30 Herriott St\, Perth\, Ontario\, K7H 1T2\, Canada
CATEGORIES:Teen
ATTACH;FMTTYPE=image/png:https://www.perthunionlibrary.ca/wp-content/uploads/2024/08/teenBook-club-2.png
ORGANIZER;CN="Perth & District Library":MAILTO:info@perthunionlibrary.ca
END:VEVENT
BEGIN:VEVENT
DTSTART;TZID=America/Toronto:20250115T133000
DTEND;TZID=America/Toronto:20250115T150000
DTSTAMP:20260422T072155
CREATED:20241128T175640Z
LAST-MODIFIED:20241128T180723Z
UID:27465-1736947800-1736953200@www.perthunionlibrary.ca
SUMMARY:Meditation and Associated Practices
DESCRIPTION:Mary Lou Mongeau guides participants through meditation and associated practices\, including practical techniques for growth\, self healing\, becoming aware of our true self\, and alignment with the Universal Consciousness. \nIn a session you might explore \n\nmeditation\nenergy centers\nbalancing techniques\ndreams and synchronicity\njournal keeping\nan energy perspective on relationships\nreactions to a process of change\nassuming responsibility\n\nDrop-in sessions. All are welcome!
URL:https://www.perthunionlibrary.ca/event/meditation-and-associated-practices-2/
LOCATION:Frizell (Program) Room – Perth & District Union Public Library\, 30 Herriott St\, Perth\, Ontario\, K7H 1T2\, Canada
CATEGORIES:Adult,Seniors,Teen
ATTACH;FMTTYPE=image/jpeg:https://www.perthunionlibrary.ca/wp-content/uploads/2024/09/Meditation-Associated-Processes-Twitter-Post.jpg
ORGANIZER;CN="Perth & District Library":MAILTO:info@perthunionlibrary.ca
END:VEVENT
BEGIN:VEVENT
DTSTART;TZID=America/Toronto:20250604T163000
DTEND;TZID=America/Toronto:20250604T183000
DTSTAMP:20260422T072155
CREATED:20250604T194655Z
LAST-MODIFIED:20250604T194655Z
UID:29324-1749054600-1749061800@www.perthunionlibrary.ca
SUMMARY:Telling it Like it Is: Non-Fiction for Young Writers
DESCRIPTION:In partnership with Almonte Readers & Writers. \nThis is a free 2-part workshop for young writers aged 12-18 years old led by Krista Foss.\nPre-registration is required. For more information: https://www.almontereadersandwriters.org/events/youth-non-fiction-workshop-2025-1
URL:https://www.perthunionlibrary.ca/event/telling-it-like-it-is-non-fiction-for-young-writers/
LOCATION:Frizell (Program) Room – Perth & District Union Public Library\, 30 Herriott St\, Perth\, Ontario\, K7H 1T2\, Canada
CATEGORIES:Teen
ATTACH;FMTTYPE=image/jpeg:https://www.perthunionlibrary.ca/wp-content/uploads/2025/06/Untitled-design-3.jpg
ORGANIZER;CN="Perth & District Library":MAILTO:info@perthunionlibrary.ca
END:VEVENT
BEGIN:VEVENT
DTSTART;VALUE=DATE:20250606
DTEND;VALUE=DATE:20250607
DTSTAMP:20260422T072155
CREATED:20241128T200100Z
LAST-MODIFIED:20241128T200640Z
UID:27478-1749168000-1749254399@www.perthunionlibrary.ca
SUMMARY:Film Club Fridays @ Studio Theatre Perth
DESCRIPTION:Screenings are on select Fridays 2pm & 7pm.\nRegular film admission at the door is $12  cash (debit or credit).\nYou can also buy a film pass. Film passes are $50 for 5 films of your choice.\nFilm Club passes are available for purchase at the box office or at the Perth & District Library (please note that the library only accepts cash or cheque). \nTo learn what’s playing visit https://studiotheatreperth.com/film-club-fridays/ \n  \nFilm Club Fridays is a fundraiser of the Perth & District Library. Thank you for your support!
URL:https://www.perthunionlibrary.ca/event/film-club-fridays-studio-theatre-perth-10/
LOCATION:Studio Theatre Perth\, 63 Gore St E\, Perth\, ON\, K7H 1H8\, Canada
CATEGORIES:Adult,Seniors,Teen
ATTACH;FMTTYPE=image/jpeg:https://www.perthunionlibrary.ca/wp-content/uploads/2024/08/WORKOUT-1.jpg
END:VEVENT
BEGIN:VEVENT
DTSTART;TZID=America/Toronto:20250604T163000
DTEND;TZID=America/Toronto:20250604T183000
DTSTAMP:20260422T072155
CREATED:20250604T194655Z
LAST-MODIFIED:20250604T194655Z
UID:29324-1749054600-1749061800@www.perthunionlibrary.ca
SUMMARY:Telling it Like it Is: Non-Fiction for Young Writers
DESCRIPTION:In partnership with Almonte Readers & Writers. \nThis is a free 2-part workshop for young writers aged 12-18 years old led by Krista Foss.\nPre-registration is required. For more information: https://www.almontereadersandwriters.org/events/youth-non-fiction-workshop-2025-1
URL:https://www.perthunionlibrary.ca/event/telling-it-like-it-is-non-fiction-for-young-writers/
LOCATION:Frizell (Program) Room – Perth & District Union Public Library\, 30 Herriott St\, Perth\, Ontario\, K7H 1T2\, Canada
CATEGORIES:Teen
ATTACH;FMTTYPE=image/jpeg:https://www.perthunionlibrary.ca/wp-content/uploads/2025/06/Untitled-design-3.jpg
ORGANIZER;CN="Perth & District Library":MAILTO:info@perthunionlibrary.ca
END:VEVENT
BEGIN:VEVENT
DTSTART;TZID=America/Toronto:20250115T133000
DTEND;TZID=America/Toronto:20250115T150000
DTSTAMP:20260422T072155
CREATED:20241128T175640Z
LAST-MODIFIED:20241128T180723Z
UID:27465-1736947800-1736953200@www.perthunionlibrary.ca
SUMMARY:Meditation and Associated Practices
DESCRIPTION:Mary Lou Mongeau guides participants through meditation and associated practices\, including practical techniques for growth\, self healing\, becoming aware of our true self\, and alignment with the Universal Consciousness. \nIn a session you might explore \n\nmeditation\nenergy centers\nbalancing techniques\ndreams and synchronicity\njournal keeping\nan energy perspective on relationships\nreactions to a process of change\nassuming responsibility\n\nDrop-in sessions. All are welcome!
URL:https://www.perthunionlibrary.ca/event/meditation-and-associated-practices-2/
LOCATION:Frizell (Program) Room – Perth & District Union Public Library\, 30 Herriott St\, Perth\, Ontario\, K7H 1T2\, Canada
CATEGORIES:Adult,Seniors,Teen
ATTACH;FMTTYPE=image/jpeg:https://www.perthunionlibrary.ca/wp-content/uploads/2024/09/Meditation-Associated-Processes-Twitter-Post.jpg
ORGANIZER;CN="Perth & District Library":MAILTO:info@perthunionlibrary.ca
END:VEVENT
BEGIN:VEVENT
DTSTART;TZID=America/Toronto:20250620T143000
DTEND;TZID=America/Toronto:20250620T170000
DTSTAMP:20260422T072155
CREATED:20250531T134858Z
LAST-MODIFIED:20250602T100235Z
UID:29259-1750429800-1750438800@www.perthunionlibrary.ca
SUMMARY:Safer together presents.....Fibre Arts Workshop with Maybe!
DESCRIPTION:Vist the Library after school for snacks\, chats and crafts! Help decorate the teen section with art that shows what the library means to you! \nDROP IN! \n 
URL:https://www.perthunionlibrary.ca/event/safer-together-presents-fibre-arts-workshop-with-maybe-2/
LOCATION:Frizell (Program) Room – Perth & District Union Public Library\, 30 Herriott St\, Perth\, Ontario\, K7H 1T2\, Canada
CATEGORIES:Teen
ORGANIZER;CN="Perth & District Library":MAILTO:info@perthunionlibrary.ca
END:VEVENT
BEGIN:VEVENT
DTSTART;TZID=America/Toronto:20250625T183000
DTEND;TZID=America/Toronto:20250625T203000
DTSTAMP:20260422T072155
CREATED:20250620T193728Z
LAST-MODIFIED:20250623T173751Z
UID:29622-1750876200-1750883400@www.perthunionlibrary.ca
SUMMARY:All Our Relations
DESCRIPTION:An Indigenous Worldview of the Environment\nPlease join us for a panel discussion about the ways in which Indigenous Peoples view their responsibilities to the Land and how we can work together to preserve our sacred earth. \nGuest speakers will lead discussions on the following topics: \nPeigi Wilson – Cultural and Biological Diversity \nMireille LaPointe – Food Sovereignty and Food Security – a personal responsibility \nCelina Tuttle – “Two-Eyed Seeing” – Combining traditional Indigenous teachings with western science \nMichael Desautels – Shared teachings about our responsibilities to protect our Mother Earth \nThis event will take place at the Indigenous Healing Circle at Last Duel Park. Bring your own chair\, tea\, bug spray\, etc. In the case of inclement weather the program will be held at The Perth & District Community Foundation\, 77 Gore St E\, unit 1A
URL:https://www.perthunionlibrary.ca/event/all-our-relations/
LOCATION:Ontario
CATEGORIES:Adult,Seniors,Teen
ATTACH;FMTTYPE=image/jpeg:https://www.perthunionlibrary.ca/wp-content/uploads/2025/06/Untitled-design-4.jpg
ORGANIZER;CN="Perth & District Library":MAILTO:info@perthunionlibrary.ca
END:VEVENT
BEGIN:VEVENT
DTSTART;TZID=America/Toronto:20250626T173000
DTEND;TZID=America/Toronto:20250626T183000
DTSTAMP:20260422T072155
CREATED:20250606T185814Z
LAST-MODIFIED:20250626T170040Z
UID:29356-1750959000-1750962600@www.perthunionlibrary.ca
SUMMARY:Artist Meet & Greet
DESCRIPTION:Join us for light refreshments and meet the talented artists participating in our group exhibition! June 26\, 5:30-6:30 pm. Drop-in. All are welcome!
URL:https://www.perthunionlibrary.ca/event/artist-meet-greet/
LOCATION:Perth & District Union Public Library\, 30 Herriott Street\, Perth\, Ontario\, K7H 1T2\, Canada
CATEGORIES:Adult,Seniors,Teen
ATTACH;FMTTYPE=image/jpeg:https://www.perthunionlibrary.ca/wp-content/uploads/2025/06/Copy-of-Copy-of-Call-for-artists-1080-x-1080-px-1.jpg
ORGANIZER;CN="Perth & District Library":MAILTO:info@perthunionlibrary.ca
END:VEVENT
BEGIN:VEVENT
DTSTART;TZID=America/Toronto:20250627T103000
DTEND;TZID=America/Toronto:20250627T150000
DTSTAMP:20260422T072155
CREATED:20250605T160329Z
LAST-MODIFIED:20250605T160329Z
UID:29335-1751020200-1751036400@www.perthunionlibrary.ca
SUMMARY:TD Summer Reading Club Launch Party!
DESCRIPTION:Visit the library on Friday\, June 27 to launch the beginning of our TD Summer Reading Club. This year’s theme is: Around the World  Grab your passport and explore the world at your library! We will be serving lemonade\, and registration will be open for all ages. This year we are happy to partner with Canadian Tire Perth\, to offer 2 gift cards to be used towards bicycles\, Spring Children has put together an amazing goodie bag and Rideau Candy Shoppe has created a delicous gift basket!  Every book read is a ballot for the draw. \n Pick up a copy of our summer calendar on June 9 to find out about all of the amazing programs offered this summer.
URL:https://www.perthunionlibrary.ca/event/td-summer-reading-club-launch-party-2/
LOCATION:Perth & District Union Public Library\, 30 Herriott Street\, Perth\, Ontario\, K7H 1T2\, Canada
CATEGORIES:Adult,Children,Teen
ATTACH;FMTTYPE=image/png:https://www.perthunionlibrary.ca/wp-content/uploads/2025/06/FINAL_25_65_69_LG_TD_2025_Poster_Lib_11x17_Customizable_EN_6b067c00be.pdf-2.png
ORGANIZER;CN="Perth & District Library":MAILTO:info@perthunionlibrary.ca
END:VEVENT
END:VCALENDAR