BEGIN:VCALENDAR
VERSION:2.0
PRODID:-//Perth Union Library - ECPv6.15.20//NONSGML v1.0//EN
CALSCALE:GREGORIAN
METHOD:PUBLISH
X-WR-CALNAME:Perth Union Library
X-ORIGINAL-URL:https://www.perthunionlibrary.ca
X-WR-CALDESC:Events for Perth Union Library
REFRESH-INTERVAL;VALUE=DURATION:PT1H
X-Robots-Tag:noindex
X-PUBLISHED-TTL:PT1H
BEGIN:VTIMEZONE
TZID:America/Toronto
BEGIN:DAYLIGHT
TZOFFSETFROM:-0500
TZOFFSETTO:-0400
TZNAME:EDT
DTSTART:20230312T070000
END:DAYLIGHT
BEGIN:STANDARD
TZOFFSETFROM:-0400
TZOFFSETTO:-0500
TZNAME:EST
DTSTART:20231105T060000
END:STANDARD
BEGIN:DAYLIGHT
TZOFFSETFROM:-0500
TZOFFSETTO:-0400
TZNAME:EDT
DTSTART:20240310T070000
END:DAYLIGHT
BEGIN:STANDARD
TZOFFSETFROM:-0400
TZOFFSETTO:-0500
TZNAME:EST
DTSTART:20241103T060000
END:STANDARD
BEGIN:DAYLIGHT
TZOFFSETFROM:-0500
TZOFFSETTO:-0400
TZNAME:EDT
DTSTART:20250309T070000
END:DAYLIGHT
BEGIN:STANDARD
TZOFFSETFROM:-0400
TZOFFSETTO:-0500
TZNAME:EST
DTSTART:20251102T060000
END:STANDARD
END:VTIMEZONE
BEGIN:VEVENT
DTSTART;TZID=America/Toronto:20240710T100000
DTEND;TZID=America/Toronto:20240710T120000
DTSTAMP:20260419T111720
CREATED:20240626T150606Z
LAST-MODIFIED:20240626T150610Z
UID:25304-1720605600-1720612800@www.perthunionlibrary.ca
SUMMARY:Knitting Circle
DESCRIPTION:This event is open to all! Come bring your current knitting project and work alongside other creative crafters. \nThis group meets in the Garden in the summer Wednesdays from 10:00-12:00. \nSee you there!
URL:https://www.perthunionlibrary.ca/event/knitting-circle-2-3/
LOCATION:Library Garden – Perth & District Union Public Library\, 30 Herriott St\, Perth\, ON\, K7H 1T2\, Canada
CATEGORIES:Adult
ATTACH;FMTTYPE=image/jpeg:https://www.perthunionlibrary.ca/wp-content/uploads/2023/12/knitting-circle.jpg
ORGANIZER;CN="Perth & District Library":MAILTO:info@perthunionlibrary.ca
END:VEVENT
BEGIN:VEVENT
DTSTART;TZID=America/Toronto:20240709T140000
DTEND;TZID=America/Toronto:20240709T150000
DTSTAMP:20260419T111720
CREATED:20240610T130041Z
LAST-MODIFIED:20240606T155347Z
UID:24664-1720533600-1720537200@www.perthunionlibrary.ca
SUMMARY:Murphy's Point Snakes: Wonderful Reptiles
DESCRIPTION:Join Chief Park Naturalist Rachel Needham from Murphy’s Point Provincial Park to learn about the snakes and turtles that call Lanark County home. Rachel will also be bringing a special guest to the library\, a live Gray Ratsnake!
URL:https://www.perthunionlibrary.ca/event/murphys-point-snakes-wonderful-reptiles/
LOCATION:Library Garden – Perth & District Union Public Library\, 30 Herriott St\, Perth\, ON\, K7H 1T2\, Canada
CATEGORIES:Children,Teen
ORGANIZER;CN="Perth & District Library":MAILTO:info@perthunionlibrary.ca
END:VEVENT
BEGIN:VEVENT
DTSTART;TZID=America/Toronto:20240709T103000
DTEND;TZID=America/Toronto:20240709T113000
DTSTAMP:20260419T111720
CREATED:20240405T131015Z
LAST-MODIFIED:20240503T174945Z
UID:23736-1720521000-1720524600@www.perthunionlibrary.ca
SUMMARY:Storytime with Heidi at the Maberly Hall
DESCRIPTION:Join Heidi Tuesday mornings for stories\,songs and rhymes.This program is best suited for children ages 0-5 and takes place in Stewart Park\, The Maberly Hall and Aspira Court retirement home on a rotating shedule. \nRegistration not required drop in!
URL:https://www.perthunionlibrary.ca/event/spring-session-of-babytime-2-4-2/
LOCATION:Maberly Community Hall\, 180 Elphin-Maberly Rd\, Maberly\, ON\, K0H 2B0\, Canada
CATEGORIES:Babies & Toddlers,Children
ATTACH;FMTTYPE=image/png:https://www.perthunionlibrary.ca/wp-content/uploads/2023/12/ST-2022-promo-2.png
ORGANIZER;CN="Perth & District Library":MAILTO:info@perthunionlibrary.ca
END:VEVENT
BEGIN:VEVENT
DTSTART;TZID=America/Toronto:20240610T150000
DTEND;TZID=America/Toronto:20240610T170000
DTSTAMP:20260419T111720
CREATED:20240620T224957Z
LAST-MODIFIED:20240620T225414Z
UID:25109-1718031600-1718038800@www.perthunionlibrary.ca
SUMMARY:Bereavement Group with Laurie Lynn Clark
DESCRIPTION:This session is currently full. \nContact Laurie laurielynnclark@circlepathway.com or 613-772-0007 for information about future sessions. 
URL:https://www.perthunionlibrary.ca/event/bereavement-group-with-laurie-lynn-clark/
LOCATION:Perth & District Union Public Library\, 30 Herriott Street\, Perth\, Ontario\, K7H 1T2\, Canada
CATEGORIES:Adult
ORGANIZER;CN="Perth & District Library":MAILTO:info@perthunionlibrary.ca
END:VEVENT
BEGIN:VEVENT
DTSTART;TZID=America/Toronto:20240708T140000
DTEND;TZID=America/Toronto:20240708T150000
DTSTAMP:20260419T111721
CREATED:20240610T130006Z
LAST-MODIFIED:20240606T142722Z
UID:24657-1720447200-1720450800@www.perthunionlibrary.ca
SUMMARY:Story & Craft: : "Mousetronaut" by Mark C. Kelly and Paint Your Own Meteor
DESCRIPTION:“Mousetronaut” by Mark C. Kelly kicks off our Summer series “Story & Craft” with Rhiannon! Come and join us for some fun times with friend before we blast off into space with a couple of fun books. We’ll end with making our own meteors and painting our own beautiful space rocks!
URL:https://www.perthunionlibrary.ca/event/story-craft-mousetronaut-by-mark-c-kelly-and-paint-your-own-meteor/
LOCATION:Library Garden – Perth & District Union Public Library\, 30 Herriott St\, Perth\, ON\, K7H 1T2\, Canada
CATEGORIES:Children
ATTACH;FMTTYPE=image/jpeg:https://www.perthunionlibrary.ca/wp-content/uploads/2024/06/Story.jpg
ORGANIZER;CN="Perth & District Library":MAILTO:info@perthunionlibrary.ca
END:VEVENT
BEGIN:VEVENT
DTSTART;TZID=America/Toronto:20240704T140000
DTEND;TZID=America/Toronto:20240704T150000
DTSTAMP:20260419T111721
CREATED:20240610T130051Z
LAST-MODIFIED:20240606T140322Z
UID:24654-1720101600-1720105200@www.perthunionlibrary.ca
SUMMARY:Lego Challenge: Spaceships and Astronauts
DESCRIPTION:Use the library’s LEGO collection to build the ultimate Spaceship! RSVP opens June 22nd at 9AM!
URL:https://www.perthunionlibrary.ca/event/lego-challenge-spaceships-and-astronauts/
LOCATION:Library Garden – Perth & District Union Public Library\, 30 Herriott St\, Perth\, ON\, K7H 1T2\, Canada
CATEGORIES:Children
ATTACH;FMTTYPE=image/webp:https://www.perthunionlibrary.ca/wp-content/uploads/2023/06/boy-playing-lego.webp
ORGANIZER;CN="Perth & District Library":MAILTO:info@perthunionlibrary.ca
END:VEVENT
BEGIN:VEVENT
DTSTART;TZID=America/Toronto:20240703T140000
DTEND;TZID=America/Toronto:20240703T150000
DTSTAMP:20260419T111721
CREATED:20240610T130011Z
LAST-MODIFIED:20240622T171353Z
UID:24650-1720015200-1720018800@www.perthunionlibrary.ca
SUMMARY:Jewelcraft: Beading Beautiful Wearable Art
DESCRIPTION:Craft your own beautiful jewelry that expresses just who YOU are. We will make bracelets\, necklaces\, GALORE! Strings and beads will be provided\, so just bring yourself! Registration for this even opens at 9:00 am on June 22.
URL:https://www.perthunionlibrary.ca/event/jewelcraft-beading-beautiful-wearable-art/
LOCATION:Library Garden – Perth & District Union Public Library\, 30 Herriott St\, Perth\, ON\, K7H 1T2\, Canada
CATEGORIES:Children
ATTACH;FMTTYPE=image/jpeg:https://www.perthunionlibrary.ca/wp-content/uploads/2023/06/1635300292-set-of-6-beaded-phone-strap-charm-tauozi-1635300287.jpeg
ORGANIZER;CN="Perth & District Library":MAILTO:info@perthunionlibrary.ca
END:VEVENT
BEGIN:VEVENT
DTSTART;TZID=America/Toronto:20240703T100000
DTEND;TZID=America/Toronto:20240703T120000
DTSTAMP:20260419T111721
CREATED:20240626T150354Z
LAST-MODIFIED:20240626T150531Z
UID:25302-1720000800-1720008000@www.perthunionlibrary.ca
SUMMARY:Knitting Circle
DESCRIPTION:This event is open to all! Come bring your current knitting project and work alongside other creative crafters. \nThis group meets in the Garden in the summer Wednesdays from 10:00-12:00. \nSee you there!
URL:https://www.perthunionlibrary.ca/event/knitting-circle-2-2/
LOCATION:Library Garden – Perth & District Union Public Library\, 30 Herriott St\, Perth\, ON\, K7H 1T2\, Canada
CATEGORIES:Adult
ATTACH;FMTTYPE=image/jpeg:https://www.perthunionlibrary.ca/wp-content/uploads/2023/12/knitting-circle.jpg
ORGANIZER;CN="Perth & District Library":MAILTO:info@perthunionlibrary.ca
END:VEVENT
BEGIN:VEVENT
DTSTART;TZID=America/Toronto:20240702T140000
DTEND;TZID=America/Toronto:20240702T150000
DTSTAMP:20260419T111721
CREATED:20240610T130130Z
LAST-MODIFIED:20240622T192706Z
UID:24644-1719928800-1719932400@www.perthunionlibrary.ca
SUMMARY:DIY Bath Bombs
DESCRIPTION:Teens! You deserve some self care time. Come to the library to DIY some bath bombs. Pick your own scent\, colour\, and more! RSVP opens June 22 at 9AM!
URL:https://www.perthunionlibrary.ca/event/diy-bath-bombs/
LOCATION:Library Garden – Perth & District Union Public Library\, 30 Herriott St\, Perth\, ON\, K7H 1T2\, Canada
CATEGORIES:Teen
ATTACH;FMTTYPE=image/jpeg:https://www.perthunionlibrary.ca/wp-content/uploads/2023/06/bath-bombs-V2.jpg
ORGANIZER;CN="Perth & District Library":MAILTO:info@perthunionlibrary.ca
END:VEVENT
BEGIN:VEVENT
DTSTART;TZID=America/Toronto:20240702T103000
DTEND;TZID=America/Toronto:20240702T110000
DTSTAMP:20260419T111721
CREATED:20240404T174917Z
LAST-MODIFIED:20240405T130854Z
UID:23670-1719916200-1719918000@www.perthunionlibrary.ca
SUMMARY:Storytime with Heidi in Stewart Park
DESCRIPTION:Join Heidi Tuesday mornings for stories\,songs and rhymes.This program is best suited for children ages 0-5 and takes place in Stewart Park\, The Maberly Hall and Aspira Court retirement home on a rotating shedule. \nRegistration not required drop in!
URL:https://www.perthunionlibrary.ca/event/spring-session-of-babytime-2/
LOCATION:Stewart Park\, 41 Mill Street\, Perth\, Ontario\, Canada
CATEGORIES:Babies & Toddlers,Children
ATTACH;FMTTYPE=image/png:https://www.perthunionlibrary.ca/wp-content/uploads/2023/12/ST-2022-promo-2.png
ORGANIZER;CN="Perth & District Library":MAILTO:info@perthunionlibrary.ca
END:VEVENT
BEGIN:VEVENT
DTSTART;TZID=America/Toronto:20240702T100000
DTEND;TZID=America/Toronto:20240702T120000
DTSTAMP:20260419T111721
CREATED:20240613T144242Z
LAST-MODIFIED:20240613T155211Z
UID:24960-1719914400-1719921600@www.perthunionlibrary.ca
SUMMARY:Tech Playground with Virtual Ventures Grade JK-2
DESCRIPTION:Grade JK – 2 \nExplore the dynamics of liquids\, solids and gases by creating your own video game.
URL:https://www.perthunionlibrary.ca/event/tech-playground-with-virtual-ventures-grade-jk-2/
LOCATION:Common Room – Perth & District Union Public Library\, 30 Herriott St\, Perth\, Ontario\, K7H 1T2\, Canada
ATTACH;FMTTYPE=image/png:https://www.perthunionlibrary.ca/wp-content/uploads/2024/06/Perth-Union-Library-30-Herriott.png
ORGANIZER;CN="Perth & District Library":MAILTO:info@perthunionlibrary.ca
END:VEVENT
BEGIN:VEVENT
DTSTART;TZID=America/Toronto:20240628T103000
DTEND;TZID=America/Toronto:20240628T143000
DTSTAMP:20260419T111721
CREATED:20240523T183445Z
LAST-MODIFIED:20240618T163859Z
UID:24472-1719570600-1719585000@www.perthunionlibrary.ca
SUMMARY:TD Summer Reading Club Launch Party!
DESCRIPTION:Visit the library on Friday\, June 28 to launch the beginning of our TD Summer Reading Club. This years theme is: To the Stars! Grab your astronaut suit and moon boots and hop aboard our spaceship as we blast off past satellites and asteroids\, leaving the Milky Way behind us. We will be serving galaxy lemonade\, and registration will be open for all ages. This year we are happy to partner with Canadian Tire Perth\, to offer 2 new bicycles! Every book read is a ballot for the draw. Pick up a copy of our summer calendar on June 10 to find out about all of the amazing programs offered this summer.
URL:https://www.perthunionlibrary.ca/event/td-summer-reading-club-launch-party/
LOCATION:Perth & District Union Public Library\, 30 Herriott Street\, Perth\, Ontario\, K7H 1T2\, Canada
CATEGORIES:Adult,Children,Teen
ORGANIZER;CN="Perth & District Library":MAILTO:info@perthunionlibrary.ca
END:VEVENT
BEGIN:VEVENT
DTSTART;TZID=America/Toronto:20240418T100000
DTEND;TZID=America/Toronto:20240418T120000
DTSTAMP:20260419T111721
CREATED:20231228T211348Z
LAST-MODIFIED:20240301T175759Z
UID:22030-1713434400-1713441600@www.perthunionlibrary.ca
SUMMARY:General Computer Course with ALTC
DESCRIPTION:General Computer Course presented by the Adult Learning & Training Centre \n\nOperating System Fundamentals\, Browser Features\nFile Management & Storage Solutions\, Safety & Security\nVirtual Platforms\, Email Tools & Techniques\n\nFor more information or to register: \n(613)-284-2121 \ninfo@altclanark.com \nwww.altclanark.com
URL:https://www.perthunionlibrary.ca/event/general-computer-course-with-altc-2/
LOCATION:Frizell (Program) Room – Perth & District Union Public Library\, 30 Herriott St\, Perth\, Ontario\, K7H 1T2\, Canada
ATTACH;FMTTYPE=image/png:https://www.perthunionlibrary.ca/wp-content/uploads/2023/12/Screenshot-2023-12-28-161259.png
ORGANIZER;CN="Perth & District Library":MAILTO:info@perthunionlibrary.ca
END:VEVENT
BEGIN:VEVENT
DTSTART;TZID=America/Toronto:20240620T100000
DTEND;TZID=America/Toronto:20240620T140000
DTSTAMP:20260419T111721
CREATED:20240523T185222Z
LAST-MODIFIED:20240523T185347Z
UID:24486-1718877600-1718892000@www.perthunionlibrary.ca
SUMMARY:Teen Destress
DESCRIPTION:Stop by the library after your exams to relax and unwind. There will be activities and snacks available. June 20 – 26\, 10:00- 1:00pm. \nParker the therapy dog will be visiting on Monday June\, 24th at 10:30.
URL:https://www.perthunionlibrary.ca/event/teen-destress/
LOCATION:Frizell (Program) Room – Perth & District Union Public Library\, 30 Herriott St\, Perth\, Ontario\, K7H 1T2\, Canada
CATEGORIES:Teen
ATTACH;FMTTYPE=image/jpeg:https://www.perthunionlibrary.ca/wp-content/uploads/2024/05/relaxed-dog-enjoys-hammock-lounging-during-summer-holidays-ai-generated-photo.jpg
ORGANIZER;CN="Perth & District Library":MAILTO:info@perthunionlibrary.ca
END:VEVENT
BEGIN:VEVENT
DTSTART;TZID=America/Toronto:20240626T100000
DTEND;TZID=America/Toronto:20240626T120000
DTSTAMP:20260419T111721
CREATED:20240626T150210Z
LAST-MODIFIED:20241205T230806Z
UID:25300-1719396000-1719403200@www.perthunionlibrary.ca
SUMMARY:Knitting Circle
DESCRIPTION:This event is open to all! Come bring your current knitting project and work alongside other creative crafters. \nThis group meets in the Frizell (Program) Room every Wednesday from 10:00-12:00. \nSee you there!
URL:https://www.perthunionlibrary.ca/event/knitting-circle-2/
LOCATION:Frizell (Program) Room – Perth & District Union Public Library\, 30 Herriott St\, Perth\, Ontario\, K7H 1T2\, Canada
ATTACH;FMTTYPE=image/jpeg:https://www.perthunionlibrary.ca/wp-content/uploads/2023/12/knitting-circle.jpg
ORGANIZER;CN="Perth & District Library":MAILTO:info@perthunionlibrary.ca
END:VEVENT
BEGIN:VEVENT
DTSTART;TZID=America/Toronto:20240625T130000
DTEND;TZID=America/Toronto:20240625T140000
DTSTAMP:20260419T111721
CREATED:20240624T202238Z
LAST-MODIFIED:20241211T140925Z
UID:25217-1719320400-1719324000@www.perthunionlibrary.ca
SUMMARY:Maberly Hall Book Club
DESCRIPTION:Maberly Hall Book Club is staff-led\, and reads a variety of titles\, curated largely from the library’s own Book Club in a Bag collection. \nIf you are interested in joining one of our book clubs please fill out this form: https://docs.google.com/forms/d/e/1FAIpQLSeGsxVJ0yU9BYM517S1rQF6OTR4KMnn0seXyJ-AD_W3W6LTJA/viewform?usp=sf_link
URL:https://www.perthunionlibrary.ca/event/maberly-hall-book-club-2-2/
LOCATION:Maberly Community Hall\, 180 Elphin-Maberly Rd\, Maberly\, ON\, K0H 2B0\, Canada
CATEGORIES:Adult
ATTACH;FMTTYPE=image/png:https://www.perthunionlibrary.ca/wp-content/uploads/2023/12/Maberly-Hall.png
ORGANIZER;CN="Perth & District Library":MAILTO:info@perthunionlibrary.ca
END:VEVENT
BEGIN:VEVENT
DTSTART;TZID=America/Toronto:20240625T103000
DTEND;TZID=America/Toronto:20240625T110000
DTSTAMP:20260419T111721
CREATED:20240404T181915Z
LAST-MODIFIED:20240404T181918Z
UID:23699-1719311400-1719313200@www.perthunionlibrary.ca
SUMMARY:Storytime with Heidi in Stewart Park
DESCRIPTION:Join Heidi Tuesday mornings for stories\,songs and rhymes.This program is best suited for children ages 0-5 and takes place in Stewart Park\, The Maberly Hall and Aspira Court retirement home on a rotating shedule. \nRegistration not required drop in!
URL:https://www.perthunionlibrary.ca/event/spring-session-of-babytime-2-2/
LOCATION:Stewart Park\, 41 Mill Street\, Perth\, Ontario\, Canada
CATEGORIES:Babies & Toddlers,Children
ATTACH;FMTTYPE=image/png:https://www.perthunionlibrary.ca/wp-content/uploads/2023/12/ST-2022-promo-2.png
ORGANIZER;CN="Perth & District Library":MAILTO:info@perthunionlibrary.ca
END:VEVENT
BEGIN:VEVENT
DTSTART;TZID=America/Toronto:20240620T100000
DTEND;TZID=America/Toronto:20240620T140000
DTSTAMP:20260419T111721
CREATED:20240523T185222Z
LAST-MODIFIED:20240523T185347Z
UID:24486-1718877600-1718892000@www.perthunionlibrary.ca
SUMMARY:Teen Destress
DESCRIPTION:Stop by the library after your exams to relax and unwind. There will be activities and snacks available. June 20 – 26\, 10:00- 1:00pm. \nParker the therapy dog will be visiting on Monday June\, 24th at 10:30.
URL:https://www.perthunionlibrary.ca/event/teen-destress/
LOCATION:Frizell (Program) Room – Perth & District Union Public Library\, 30 Herriott St\, Perth\, Ontario\, K7H 1T2\, Canada
CATEGORIES:Teen
ATTACH;FMTTYPE=image/jpeg:https://www.perthunionlibrary.ca/wp-content/uploads/2024/05/relaxed-dog-enjoys-hammock-lounging-during-summer-holidays-ai-generated-photo.jpg
ORGANIZER;CN="Perth & District Library":MAILTO:info@perthunionlibrary.ca
END:VEVENT
BEGIN:VEVENT
DTSTART;TZID=America/Toronto:20240610T150000
DTEND;TZID=America/Toronto:20240610T170000
DTSTAMP:20260419T111721
CREATED:20240620T224957Z
LAST-MODIFIED:20240620T225414Z
UID:25109-1718031600-1718038800@www.perthunionlibrary.ca
SUMMARY:Bereavement Group with Laurie Lynn Clark
DESCRIPTION:This session is currently full. \nContact Laurie laurielynnclark@circlepathway.com or 613-772-0007 for information about future sessions. 
URL:https://www.perthunionlibrary.ca/event/bereavement-group-with-laurie-lynn-clark/
LOCATION:Perth & District Union Public Library\, 30 Herriott Street\, Perth\, Ontario\, K7H 1T2\, Canada
CATEGORIES:Adult
ORGANIZER;CN="Perth & District Library":MAILTO:info@perthunionlibrary.ca
END:VEVENT
BEGIN:VEVENT
DTSTART;TZID=America/Toronto:20240415T130000
DTEND;TZID=America/Toronto:20240415T150000
DTSTAMP:20260419T111721
CREATED:20231228T205022Z
LAST-MODIFIED:20240301T180321Z
UID:22015-1713186000-1713193200@www.perthunionlibrary.ca
SUMMARY:Mobile Plus Training with ALTC
DESCRIPTION:Join Tracey from ALTC for this 11 week course that covers a variety of topics! \nTO REGISTER:\nphone: (613) 284-2121\nemail: info@altclanark.com\nwebsite: www.altclanark.com
URL:https://www.perthunionlibrary.ca/event/mobile-plus-training/
LOCATION:Frizell (Program) Room – Perth & District Union Public Library\, 30 Herriott St\, Perth\, Ontario\, K7H 1T2\, Canada
ATTACH;FMTTYPE=image/png:https://www.perthunionlibrary.ca/wp-content/uploads/2023/12/Screenshot-2023-12-28-155133.png
ORGANIZER;CN="Perth & District Library":MAILTO:info@perthunionlibrary.ca
END:VEVENT
BEGIN:VEVENT
DTSTART;TZID=America/Toronto:20240624T100000
DTEND;TZID=America/Toronto:20240624T140000
DTSTAMP:20260419T111721
CREATED:20240523T185459Z
LAST-MODIFIED:20240523T185738Z
UID:24493-1719223200-1719237600@www.perthunionlibrary.ca
SUMMARY:Teen Destress - Parker the therapy dog!!!!
DESCRIPTION:Stop by the library after your exams to relax and unwind. There will be activities and snacks available. June 20 – 26\, 10:00- 1:00pm. \nParker the therapy dog will be visiting on Monday June\, 24th at 10:30.
URL:https://www.perthunionlibrary.ca/event/teen-destress-2/
LOCATION:Frizell (Program) Room – Perth & District Union Public Library\, 30 Herriott St\, Perth\, Ontario\, K7H 1T2\, Canada
CATEGORIES:Teen
ATTACH;FMTTYPE=image/png:https://www.perthunionlibrary.ca/wp-content/uploads/2023/01/De-Stress-During-Exams-At-The-Library.png
ORGANIZER;CN="Perth & District Library":MAILTO:info@perthunionlibrary.ca
END:VEVENT
BEGIN:VEVENT
DTSTART;TZID=America/Toronto:20240415T100000
DTEND;TZID=America/Toronto:20240415T120000
DTSTAMP:20260419T111721
CREATED:20231228T210716Z
LAST-MODIFIED:20240301T175920Z
UID:22023-1713175200-1713182400@www.perthunionlibrary.ca
SUMMARY:General Computer Course with ALTC
DESCRIPTION:General Computer Course presented by the Adult Learning & Training Centre \n\nOperating System Fundamentals\, Browser Features\nFile Management & Storage Solutions\, Safety & Security\nVirtual Platforms\, Email Tools & Techniques\n\nFor more information or to register: \n(613)-284-2121 \ninfo@altclanark.com \nwww.altclanark.com
URL:https://www.perthunionlibrary.ca/event/general-computer-course-with-altc/
LOCATION:Common Room – Perth & District Union Public Library\, 30 Herriott St\, Perth\, Ontario\, K7H 1T2\, Canada
ATTACH;FMTTYPE=image/png:https://www.perthunionlibrary.ca/wp-content/uploads/2023/12/Screenshot-2023-12-28-160630.png
ORGANIZER;CN="Perth & District Library":MAILTO:info@perthunionlibrary.ca
END:VEVENT
BEGIN:VEVENT
DTSTART;TZID=America/Toronto:20240620T100000
DTEND;TZID=America/Toronto:20240620T140000
DTSTAMP:20260419T111721
CREATED:20240523T185222Z
LAST-MODIFIED:20240523T185347Z
UID:24486-1718877600-1718892000@www.perthunionlibrary.ca
SUMMARY:Teen Destress
DESCRIPTION:Stop by the library after your exams to relax and unwind. There will be activities and snacks available. June 20 – 26\, 10:00- 1:00pm. \nParker the therapy dog will be visiting on Monday June\, 24th at 10:30.
URL:https://www.perthunionlibrary.ca/event/teen-destress/
LOCATION:Frizell (Program) Room – Perth & District Union Public Library\, 30 Herriott St\, Perth\, Ontario\, K7H 1T2\, Canada
CATEGORIES:Teen
ATTACH;FMTTYPE=image/jpeg:https://www.perthunionlibrary.ca/wp-content/uploads/2024/05/relaxed-dog-enjoys-hammock-lounging-during-summer-holidays-ai-generated-photo.jpg
ORGANIZER;CN="Perth & District Library":MAILTO:info@perthunionlibrary.ca
END:VEVENT
BEGIN:VEVENT
DTSTART;TZID=America/Toronto:20240620T100000
DTEND;TZID=America/Toronto:20240620T140000
DTSTAMP:20260419T111721
CREATED:20240523T185222Z
LAST-MODIFIED:20240523T185347Z
UID:24486-1718877600-1718892000@www.perthunionlibrary.ca
SUMMARY:Teen Destress
DESCRIPTION:Stop by the library after your exams to relax and unwind. There will be activities and snacks available. June 20 – 26\, 10:00- 1:00pm. \nParker the therapy dog will be visiting on Monday June\, 24th at 10:30.
URL:https://www.perthunionlibrary.ca/event/teen-destress/
LOCATION:Frizell (Program) Room – Perth & District Union Public Library\, 30 Herriott St\, Perth\, Ontario\, K7H 1T2\, Canada
CATEGORIES:Teen
ATTACH;FMTTYPE=image/jpeg:https://www.perthunionlibrary.ca/wp-content/uploads/2024/05/relaxed-dog-enjoys-hammock-lounging-during-summer-holidays-ai-generated-photo.jpg
ORGANIZER;CN="Perth & District Library":MAILTO:info@perthunionlibrary.ca
END:VEVENT
BEGIN:VEVENT
DTSTART;TZID=America/Toronto:20240418T100000
DTEND;TZID=America/Toronto:20240418T120000
DTSTAMP:20260419T111721
CREATED:20231228T211348Z
LAST-MODIFIED:20240301T175759Z
UID:22030-1713434400-1713441600@www.perthunionlibrary.ca
SUMMARY:General Computer Course with ALTC
DESCRIPTION:General Computer Course presented by the Adult Learning & Training Centre \n\nOperating System Fundamentals\, Browser Features\nFile Management & Storage Solutions\, Safety & Security\nVirtual Platforms\, Email Tools & Techniques\n\nFor more information or to register: \n(613)-284-2121 \ninfo@altclanark.com \nwww.altclanark.com
URL:https://www.perthunionlibrary.ca/event/general-computer-course-with-altc-2/
LOCATION:Frizell (Program) Room – Perth & District Union Public Library\, 30 Herriott St\, Perth\, Ontario\, K7H 1T2\, Canada
ATTACH;FMTTYPE=image/png:https://www.perthunionlibrary.ca/wp-content/uploads/2023/12/Screenshot-2023-12-28-161259.png
ORGANIZER;CN="Perth & District Library":MAILTO:info@perthunionlibrary.ca
END:VEVENT
BEGIN:VEVENT
DTSTART;TZID=America/Toronto:20240619T100000
DTEND;TZID=America/Toronto:20240619T120000
DTSTAMP:20260419T111721
CREATED:20240524T172915Z
LAST-MODIFIED:20240524T172915Z
UID:24502-1718791200-1718798400@www.perthunionlibrary.ca
SUMMARY:Yarn Swap
DESCRIPTION:In place of our regular knitting group this week\, we are hosting a yarn swap! Bring your unused and excess yarn to share with our community of knitters. Please label the yarn with weight and material in advance.  \nNo registration required. \n  \n 
URL:https://www.perthunionlibrary.ca/event/yarn-swap/
LOCATION:Frizell (Program) Room – Perth & District Union Public Library\, 30 Herriott St\, Perth\, Ontario\, K7H 1T2\, Canada
CATEGORIES:Adult,Seniors
END:VEVENT
BEGIN:VEVENT
DTSTART;TZID=America/Toronto:20240618T103000
DTEND;TZID=America/Toronto:20240618T110000
DTSTAMP:20260419T111721
CREATED:20240312T125533Z
LAST-MODIFIED:20240516T124817Z
UID:23180-1718706600-1718708400@www.perthunionlibrary.ca
SUMMARY:Intergenerational Storytime!
DESCRIPTION:Intergenerational Storytime – in partnership with Aspira Carolina Retirement Living \nThe Perth & District Union Public Library is excited to host: Intergenerational Storytime. This program will be offered on selected dates throughout the spring and summer and will be held in the main lobby of Aspira Carolina Retirement Living. Parents\, grandparents and caregivers are encouraged to bring their children and grandchildren to enjoy stories\, songs and rhymes with residents from the retirement community\, hosted by the library’s Children’s Librarian. This program is best suited for children ages 18 months – 5 years. \n“The idea of hosting a storytime outside of the library has been percolating for a while and when a community member suggested Aspira Carolina\, it seemed like a good fit. Seeing all ages come together for early literacy is wonderful – it should be an engaging experience for all!” – Heidi Taber \nThe program is free of charge and drop-ins are welcome (no registration required). Participants will be asked to sign in upon arrival and ensure that they are healthy. Please visit www.perthunionlibrary.ca or call the library 613-267-1224  for more information.
URL:https://www.perthunionlibrary.ca/event/intergenerational-storytime-10/
LOCATION:Aspira Carolina Retirement Living\, 12 Alma Street\, Perth\, Ontario\, Canada
CATEGORIES:Adult,Babies & Toddlers,Children,Seniors
ATTACH;FMTTYPE=image/png:https://www.perthunionlibrary.ca/wp-content/uploads/2024/03/April-of-Join-Us-fo-2-1.png
END:VEVENT
BEGIN:VEVENT
DTSTART;TZID=America/Toronto:20240610T150000
DTEND;TZID=America/Toronto:20240610T170000
DTSTAMP:20260419T111721
CREATED:20240620T224957Z
LAST-MODIFIED:20240620T225414Z
UID:25109-1718031600-1718038800@www.perthunionlibrary.ca
SUMMARY:Bereavement Group with Laurie Lynn Clark
DESCRIPTION:This session is currently full. \nContact Laurie laurielynnclark@circlepathway.com or 613-772-0007 for information about future sessions. 
URL:https://www.perthunionlibrary.ca/event/bereavement-group-with-laurie-lynn-clark/
LOCATION:Perth & District Union Public Library\, 30 Herriott Street\, Perth\, Ontario\, K7H 1T2\, Canada
CATEGORIES:Adult
ORGANIZER;CN="Perth & District Library":MAILTO:info@perthunionlibrary.ca
END:VEVENT
BEGIN:VEVENT
DTSTART;TZID=America/Toronto:20240415T130000
DTEND;TZID=America/Toronto:20240415T150000
DTSTAMP:20260419T111721
CREATED:20231228T205022Z
LAST-MODIFIED:20240301T180321Z
UID:22015-1713186000-1713193200@www.perthunionlibrary.ca
SUMMARY:Mobile Plus Training with ALTC
DESCRIPTION:Join Tracey from ALTC for this 11 week course that covers a variety of topics! \nTO REGISTER:\nphone: (613) 284-2121\nemail: info@altclanark.com\nwebsite: www.altclanark.com
URL:https://www.perthunionlibrary.ca/event/mobile-plus-training/
LOCATION:Frizell (Program) Room – Perth & District Union Public Library\, 30 Herriott St\, Perth\, Ontario\, K7H 1T2\, Canada
ATTACH;FMTTYPE=image/png:https://www.perthunionlibrary.ca/wp-content/uploads/2023/12/Screenshot-2023-12-28-155133.png
ORGANIZER;CN="Perth & District Library":MAILTO:info@perthunionlibrary.ca
END:VEVENT
BEGIN:VEVENT
DTSTART;TZID=America/Toronto:20240415T100000
DTEND;TZID=America/Toronto:20240415T120000
DTSTAMP:20260419T111721
CREATED:20231228T210716Z
LAST-MODIFIED:20240301T175920Z
UID:22023-1713175200-1713182400@www.perthunionlibrary.ca
SUMMARY:General Computer Course with ALTC
DESCRIPTION:General Computer Course presented by the Adult Learning & Training Centre \n\nOperating System Fundamentals\, Browser Features\nFile Management & Storage Solutions\, Safety & Security\nVirtual Platforms\, Email Tools & Techniques\n\nFor more information or to register: \n(613)-284-2121 \ninfo@altclanark.com \nwww.altclanark.com
URL:https://www.perthunionlibrary.ca/event/general-computer-course-with-altc/
LOCATION:Common Room – Perth & District Union Public Library\, 30 Herriott St\, Perth\, Ontario\, K7H 1T2\, Canada
ATTACH;FMTTYPE=image/png:https://www.perthunionlibrary.ca/wp-content/uploads/2023/12/Screenshot-2023-12-28-160630.png
ORGANIZER;CN="Perth & District Library":MAILTO:info@perthunionlibrary.ca
END:VEVENT
END:VCALENDAR