BEGIN:VCALENDAR
VERSION:2.0
PRODID:-//Perth Union Library - ECPv6.15.20//NONSGML v1.0//EN
CALSCALE:GREGORIAN
METHOD:PUBLISH
X-WR-CALNAME:Perth Union Library
X-ORIGINAL-URL:https://www.perthunionlibrary.ca
X-WR-CALDESC:Events for Perth Union Library
REFRESH-INTERVAL;VALUE=DURATION:PT1H
X-Robots-Tag:noindex
X-PUBLISHED-TTL:PT1H
BEGIN:VTIMEZONE
TZID:America/Toronto
BEGIN:DAYLIGHT
TZOFFSETFROM:-0500
TZOFFSETTO:-0400
TZNAME:EDT
DTSTART:20220313T070000
END:DAYLIGHT
BEGIN:STANDARD
TZOFFSETFROM:-0400
TZOFFSETTO:-0500
TZNAME:EST
DTSTART:20221106T060000
END:STANDARD
BEGIN:DAYLIGHT
TZOFFSETFROM:-0500
TZOFFSETTO:-0400
TZNAME:EDT
DTSTART:20230312T070000
END:DAYLIGHT
BEGIN:STANDARD
TZOFFSETFROM:-0400
TZOFFSETTO:-0500
TZNAME:EST
DTSTART:20231105T060000
END:STANDARD
BEGIN:DAYLIGHT
TZOFFSETFROM:-0500
TZOFFSETTO:-0400
TZNAME:EDT
DTSTART:20240310T070000
END:DAYLIGHT
BEGIN:STANDARD
TZOFFSETFROM:-0400
TZOFFSETTO:-0500
TZNAME:EST
DTSTART:20241103T060000
END:STANDARD
END:VTIMEZONE
BEGIN:VEVENT
DTSTART;TZID=America/Toronto:20231129T100000
DTEND;TZID=America/Toronto:20231129T130000
DTSTAMP:20260421T132904
CREATED:20231130T184014Z
LAST-MODIFIED:20231220T155021Z
UID:21460-1701252000-1701262800@www.perthunionlibrary.ca
SUMMARY:Grief Circle with Laurie Lynn Clark
DESCRIPTION:Lean into your grief in this 10 week session with grief companion Laurie Lynn Clark \nWednesday Mornings\, 10-1:00pm (November-February) \n8 spaces available \nTo register: Contact Laurie laurielynnclark@circlepathway.com or 613-772-0007
URL:https://www.perthunionlibrary.ca/event/grief-circle-with-laurie-clark-2/
LOCATION:Frizell (Program) Room – Perth & District Union Public Library\, 30 Herriott St\, Perth\, Ontario\, K7H 1T2\, Canada
ATTACH;FMTTYPE=image/jpeg:https://www.perthunionlibrary.ca/wp-content/uploads/2023/08/Wednesday-Grief-Circle-2023_2024.jpg
ORGANIZER;CN="Perth & District Library":MAILTO:info@perthunionlibrary.ca
END:VEVENT
BEGIN:VEVENT
DTSTART;TZID=America/Toronto:20231212T133000
DTEND;TZID=America/Toronto:20231212T143000
DTSTAMP:20260421T132904
CREATED:20231208T125730Z
LAST-MODIFIED:20240918T130501Z
UID:21559-1702387800-1702391400@www.perthunionlibrary.ca
SUMMARY:Readalikes Book Club
DESCRIPTION:Readalikes meets once a month to discuss a buzz-worthy collection of titles curated by the Perth & District Library. \nIf you are interested in joining one of our book clubs please fill out this form: https://docs.google.com/forms/d/e/1FAIpQLSeGsxVJ0yU9BYM517S1rQF6OTR4KMnn0seXyJ-AD_W3W6LTJA/viewform?usp=sf_link \n\n 
URL:https://www.perthunionlibrary.ca/event/readalikes-book-club-19/
LOCATION:Frizell (Program) Room – Perth & District Union Public Library\, 30 Herriott St\, Perth\, Ontario\, K7H 1T2\, Canada
CATEGORIES:Adult
ATTACH;FMTTYPE=image/png:https://www.perthunionlibrary.ca/wp-content/uploads/2023/12/Untitled-design.png
END:VEVENT
BEGIN:VEVENT
DTSTART;TZID=America/Toronto:20231213T100000
DTEND;TZID=America/Toronto:20231213T130000
DTSTAMP:20260421T132904
CREATED:20240209T201344Z
LAST-MODIFIED:20240209T201347Z
UID:22589-1702461600-1702472400@www.perthunionlibrary.ca
SUMMARY:Grief Circle with Laurie Lynn Clark
DESCRIPTION:Lean into your grief in this 10 week session with grief companion Laurie Lynn Clark \nWednesday Mornings\, 10-1:00pm (November-February) \n8 spaces available \nTo register: Contact Laurie laurielynnclark@circlepathway.com or 613-772-0007
URL:https://www.perthunionlibrary.ca/event/grief-circle-with-laurie-clark-2-4/
LOCATION:Frizell (Program) Room – Perth & District Union Public Library\, 30 Herriott St\, Perth\, Ontario\, K7H 1T2\, Canada
ATTACH;FMTTYPE=image/jpeg:https://www.perthunionlibrary.ca/wp-content/uploads/2023/08/Wednesday-Grief-Circle-2023_2024.jpg
ORGANIZER;CN="Perth & District Library":MAILTO:info@perthunionlibrary.ca
END:VEVENT
BEGIN:VEVENT
DTSTART;TZID=America/Toronto:20231214T174500
DTEND;TZID=America/Toronto:20231214T184500
DTSTAMP:20260421T132904
CREATED:20231130T184850Z
LAST-MODIFIED:20240917T190950Z
UID:21463-1702575900-1702579500@www.perthunionlibrary.ca
SUMMARY:Book Buzz Book Club
DESCRIPTION:Book Buzz meets once a month to discuss a buzz-worthy collection of titles curated by the Perth & District Library. \nIf you are interested in joining one of our book clubs please fill out this form: https://docs.google.com/forms/d/e/1FAIpQLSeGsxVJ0yU9BYM517S1rQF6OTR4KMnn0seXyJ-AD_W3W6LTJA/viewform?usp=sf_link
URL:https://www.perthunionlibrary.ca/event/book-buzz-book-club/
LOCATION:Frizell (Program) Room – Perth & District Union Public Library\, 30 Herriott St\, Perth\, Ontario\, K7H 1T2\, Canada
ATTACH;FMTTYPE=image/png:https://www.perthunionlibrary.ca/wp-content/uploads/2022/02/bookbuzz-recommends.png
ORGANIZER;CN="Perth & District Library":MAILTO:info@perthunionlibrary.ca
END:VEVENT
BEGIN:VEVENT
DTSTART;TZID=America/Toronto:20231220T100000
DTEND;TZID=America/Toronto:20231220T120000
DTSTAMP:20260421T132904
CREATED:20231220T133720Z
LAST-MODIFIED:20240524T173037Z
UID:21847-1703066400-1703073600@www.perthunionlibrary.ca
SUMMARY:Knitting Circle
DESCRIPTION:This event is open to all! Come bring your current knitting project and work alongside other creative crafters. \nThis group meets in the Frizell (Program) Room every Wednesday from 10:00-12:00. \nSee you there!
URL:https://www.perthunionlibrary.ca/event/knitting-circle/
LOCATION:Frizell (Program) Room – Perth & District Union Public Library\, 30 Herriott St\, Perth\, Ontario\, K7H 1T2\, Canada
ATTACH;FMTTYPE=image/png:https://www.perthunionlibrary.ca/wp-content/uploads/2022/09/Knitting-Circle.png
ORGANIZER;CN="Perth & District Library":MAILTO:info@perthunionlibrary.ca
END:VEVENT
BEGIN:VEVENT
DTSTART;TZID=America/Toronto:20231213T100000
DTEND;TZID=America/Toronto:20231213T130000
DTSTAMP:20260421T132904
CREATED:20240209T201344Z
LAST-MODIFIED:20240209T201347Z
UID:22589-1702461600-1702472400@www.perthunionlibrary.ca
SUMMARY:Grief Circle with Laurie Lynn Clark
DESCRIPTION:Lean into your grief in this 10 week session with grief companion Laurie Lynn Clark \nWednesday Mornings\, 10-1:00pm (November-February) \n8 spaces available \nTo register: Contact Laurie laurielynnclark@circlepathway.com or 613-772-0007
URL:https://www.perthunionlibrary.ca/event/grief-circle-with-laurie-clark-2-4/
LOCATION:Frizell (Program) Room – Perth & District Union Public Library\, 30 Herriott St\, Perth\, Ontario\, K7H 1T2\, Canada
ATTACH;FMTTYPE=image/jpeg:https://www.perthunionlibrary.ca/wp-content/uploads/2023/08/Wednesday-Grief-Circle-2023_2024.jpg
ORGANIZER;CN="Perth & District Library":MAILTO:info@perthunionlibrary.ca
END:VEVENT
BEGIN:VEVENT
DTSTART;TZID=America/Toronto:20231220T100000
DTEND;TZID=America/Toronto:20231220T120000
DTSTAMP:20260421T132904
CREATED:20231220T133720Z
LAST-MODIFIED:20240524T173037Z
UID:21847-1703066400-1703073600@www.perthunionlibrary.ca
SUMMARY:Knitting Circle
DESCRIPTION:This event is open to all! Come bring your current knitting project and work alongside other creative crafters. \nThis group meets in the Frizell (Program) Room every Wednesday from 10:00-12:00. \nSee you there!
URL:https://www.perthunionlibrary.ca/event/knitting-circle/
LOCATION:Frizell (Program) Room – Perth & District Union Public Library\, 30 Herriott St\, Perth\, Ontario\, K7H 1T2\, Canada
ATTACH;FMTTYPE=image/png:https://www.perthunionlibrary.ca/wp-content/uploads/2022/09/Knitting-Circle.png
ORGANIZER;CN="Perth & District Library":MAILTO:info@perthunionlibrary.ca
END:VEVENT
END:VCALENDAR