BEGIN:VCALENDAR
VERSION:2.0
PRODID:-//Perth Union Library - ECPv6.15.20//NONSGML v1.0//EN
CALSCALE:GREGORIAN
METHOD:PUBLISH
X-ORIGINAL-URL:https://www.perthunionlibrary.ca
X-WR-CALDESC:Events for Perth Union Library
REFRESH-INTERVAL;VALUE=DURATION:PT1H
X-Robots-Tag:noindex
X-PUBLISHED-TTL:PT1H
BEGIN:VTIMEZONE
TZID:America/Toronto
BEGIN:DAYLIGHT
TZOFFSETFROM:-0500
TZOFFSETTO:-0400
TZNAME:EDT
DTSTART:20230312T070000
END:DAYLIGHT
BEGIN:STANDARD
TZOFFSETFROM:-0400
TZOFFSETTO:-0500
TZNAME:EST
DTSTART:20231105T060000
END:STANDARD
BEGIN:DAYLIGHT
TZOFFSETFROM:-0500
TZOFFSETTO:-0400
TZNAME:EDT
DTSTART:20240310T070000
END:DAYLIGHT
BEGIN:STANDARD
TZOFFSETFROM:-0400
TZOFFSETTO:-0500
TZNAME:EST
DTSTART:20241103T060000
END:STANDARD
BEGIN:DAYLIGHT
TZOFFSETFROM:-0500
TZOFFSETTO:-0400
TZNAME:EDT
DTSTART:20250309T070000
END:DAYLIGHT
BEGIN:STANDARD
TZOFFSETFROM:-0400
TZOFFSETTO:-0500
TZNAME:EST
DTSTART:20251102T060000
END:STANDARD
END:VTIMEZONE
BEGIN:VEVENT
DTSTART;TZID=America/Toronto:20240801T140000
DTEND;TZID=America/Toronto:20240801T150000
DTSTAMP:20260420T230800
CREATED:20240610T130019Z
LAST-MODIFIED:20240607T134121Z
UID:24735-1722520800-1722524400@www.perthunionlibrary.ca
SUMMARY:Q-Tip Botanical Beauties: Crafting Colorful Flower Portraits
DESCRIPTION:There’s beauty all around us! Join us at the library as we discover how to captures some of that beauty on paper with tools that we might have around the house— like Q-Tips. Set your imagination free to make some beautiful flower portraits. \nRegistration July 20\, 2024 @ 9 am.
URL:https://www.perthunionlibrary.ca/event/q-tip-botanical-beauties-crafting-colorful-flower-portraits/
LOCATION:Library Garden – Perth & District Union Public Library\, 30 Herriott St\, Perth\, ON\, K7H 1T2\, Canada
CATEGORIES:Children
ATTACH;FMTTYPE=image/png:https://www.perthunionlibrary.ca/wp-content/uploads/2024/06/Screenshot-2024-06-07-at-9.40.10 AM.png
ORGANIZER;CN="Perth & District Library":MAILTO:info@perthunionlibrary.ca
END:VEVENT
BEGIN:VEVENT
DTSTART;TZID=America/Toronto:20240806T140000
DTEND;TZID=America/Toronto:20240806T150000
DTSTAMP:20260420T230800
CREATED:20240610T130019Z
LAST-MODIFIED:20240607T135347Z
UID:24739-1722952800-1722956400@www.perthunionlibrary.ca
SUMMARY:Teen Activity: Learn to Crochet
DESCRIPTION:Crocheting. In my personal opinion\, it is one of the great joys of life. And so useful! learn how to make yourself hats\, scarves\, etc. The world of crocheting is truly your oyster. Come to the library to learn how to crochet with Rhiannon. Yarn and crochet hooks will be provided but feel free to bring your own if you would like. \nRegistration opens July 20 @ 9 am.
URL:https://www.perthunionlibrary.ca/event/teen-activity-learn-to-crochet/
LOCATION:Frizell (Program) Room – Perth & District Union Public Library\, 30 Herriott St\, Perth\, Ontario\, K7H 1T2\, Canada
CATEGORIES:Teen
ATTACH;FMTTYPE=image/png:https://www.perthunionlibrary.ca/wp-content/uploads/2024/06/Screenshot-2024-06-07-at-9.46.36 AM.png
ORGANIZER;CN="Perth & District Library":MAILTO:info@perthunionlibrary.ca
END:VEVENT
BEGIN:VEVENT
DTSTART;TZID=America/Toronto:20240813T140000
DTEND;TZID=America/Toronto:20240813T150000
DTSTAMP:20260420T230800
CREATED:20240610T130022Z
LAST-MODIFIED:20240801T130049Z
UID:24818-1723557600-1723561200@www.perthunionlibrary.ca
SUMMARY:DIY Paper Flower Crafting for Teens
DESCRIPTION:Join us to make wonderful\, non-perishable bouquet. You can use them to decorate your room\, or give them to someone important to you! \nRegistration opens July 31 @ 9 am.
URL:https://www.perthunionlibrary.ca/event/teen-activity-petals-paper-diy-paper-flower-crafting-2/
LOCATION:Library Garden – Perth & District Union Public Library\, 30 Herriott St\, Perth\, ON\, K7H 1T2\, Canada
CATEGORIES:Teen
ATTACH;FMTTYPE=image/png:https://www.perthunionlibrary.ca/wp-content/uploads/2024/06/Screenshot-2024-06-07-at-11.18.06 AM.png
ORGANIZER;CN="Perth & District Library":MAILTO:info@perthunionlibrary.ca
END:VEVENT
BEGIN:VEVENT
DTSTART;TZID=America/Toronto:20240815T140000
DTEND;TZID=America/Toronto:20240815T150000
DTSTAMP:20260420T230800
CREATED:20240610T130043Z
LAST-MODIFIED:20240801T125700Z
UID:24763-1723730400-1723734000@www.perthunionlibrary.ca
SUMMARY:DIY Solar System Craft
DESCRIPTION:Join us to learn about the Solar System and make your own paper solar system mobile! Registration opens July 31.
URL:https://www.perthunionlibrary.ca/event/diy-solar-system-craft/
LOCATION:Library Garden – Perth & District Union Public Library\, 30 Herriott St\, Perth\, ON\, K7H 1T2\, Canada
CATEGORIES:Children
ATTACH;FMTTYPE=image/jpeg:https://www.perthunionlibrary.ca/wp-content/uploads/2024/06/download-1.jpg
ORGANIZER;CN="Perth & District Library":MAILTO:info@perthunionlibrary.ca
END:VEVENT
END:VCALENDAR