BEGIN:VCALENDAR
VERSION:2.0
PRODID:-//Perth Union Library - ECPv6.15.20//NONSGML v1.0//EN
CALSCALE:GREGORIAN
METHOD:PUBLISH
X-WR-CALNAME:Perth Union Library
X-ORIGINAL-URL:https://www.perthunionlibrary.ca
X-WR-CALDESC:Events for Perth Union Library
REFRESH-INTERVAL;VALUE=DURATION:PT1H
X-Robots-Tag:noindex
X-PUBLISHED-TTL:PT1H
BEGIN:VTIMEZONE
TZID:America/Toronto
BEGIN:DAYLIGHT
TZOFFSETFROM:-0500
TZOFFSETTO:-0400
TZNAME:EDT
DTSTART:20230312T070000
END:DAYLIGHT
BEGIN:STANDARD
TZOFFSETFROM:-0400
TZOFFSETTO:-0500
TZNAME:EST
DTSTART:20231105T060000
END:STANDARD
BEGIN:DAYLIGHT
TZOFFSETFROM:-0500
TZOFFSETTO:-0400
TZNAME:EDT
DTSTART:20240310T070000
END:DAYLIGHT
BEGIN:STANDARD
TZOFFSETFROM:-0400
TZOFFSETTO:-0500
TZNAME:EST
DTSTART:20241103T060000
END:STANDARD
BEGIN:DAYLIGHT
TZOFFSETFROM:-0500
TZOFFSETTO:-0400
TZNAME:EDT
DTSTART:20250309T070000
END:DAYLIGHT
BEGIN:STANDARD
TZOFFSETFROM:-0400
TZOFFSETTO:-0500
TZNAME:EST
DTSTART:20251102T060000
END:STANDARD
END:VTIMEZONE
BEGIN:VEVENT
DTSTART;TZID=America/Toronto:20240702T103000
DTEND;TZID=America/Toronto:20240702T110000
DTSTAMP:20260422T232722
CREATED:20240404T174917Z
LAST-MODIFIED:20240405T130854Z
UID:23670-1719916200-1719918000@www.perthunionlibrary.ca
SUMMARY:Storytime with Heidi in Stewart Park
DESCRIPTION:Join Heidi Tuesday mornings for stories\,songs and rhymes.This program is best suited for children ages 0-5 and takes place in Stewart Park\, The Maberly Hall and Aspira Court retirement home on a rotating shedule. \nRegistration not required drop in!
URL:https://www.perthunionlibrary.ca/event/spring-session-of-babytime-2/
LOCATION:Stewart Park\, 41 Mill Street\, Perth\, Ontario\, Canada
CATEGORIES:Babies & Toddlers,Children
ATTACH;FMTTYPE=image/png:https://www.perthunionlibrary.ca/wp-content/uploads/2023/12/ST-2022-promo-2.png
ORGANIZER;CN="Perth & District Library":MAILTO:info@perthunionlibrary.ca
END:VEVENT
BEGIN:VEVENT
DTSTART;TZID=America/Toronto:20240703T140000
DTEND;TZID=America/Toronto:20240703T150000
DTSTAMP:20260422T232722
CREATED:20240610T130011Z
LAST-MODIFIED:20240622T171353Z
UID:24650-1720015200-1720018800@www.perthunionlibrary.ca
SUMMARY:Jewelcraft: Beading Beautiful Wearable Art
DESCRIPTION:Craft your own beautiful jewelry that expresses just who YOU are. We will make bracelets\, necklaces\, GALORE! Strings and beads will be provided\, so just bring yourself! Registration for this even opens at 9:00 am on June 22.
URL:https://www.perthunionlibrary.ca/event/jewelcraft-beading-beautiful-wearable-art/
LOCATION:Library Garden – Perth & District Union Public Library\, 30 Herriott St\, Perth\, ON\, K7H 1T2\, Canada
CATEGORIES:Children
ATTACH;FMTTYPE=image/jpeg:https://www.perthunionlibrary.ca/wp-content/uploads/2023/06/1635300292-set-of-6-beaded-phone-strap-charm-tauozi-1635300287.jpeg
ORGANIZER;CN="Perth & District Library":MAILTO:info@perthunionlibrary.ca
END:VEVENT
BEGIN:VEVENT
DTSTART;TZID=America/Toronto:20240704T140000
DTEND;TZID=America/Toronto:20240704T150000
DTSTAMP:20260422T232722
CREATED:20240610T130051Z
LAST-MODIFIED:20240606T140322Z
UID:24654-1720101600-1720105200@www.perthunionlibrary.ca
SUMMARY:Lego Challenge: Spaceships and Astronauts
DESCRIPTION:Use the library’s LEGO collection to build the ultimate Spaceship! RSVP opens June 22nd at 9AM!
URL:https://www.perthunionlibrary.ca/event/lego-challenge-spaceships-and-astronauts/
LOCATION:Library Garden – Perth & District Union Public Library\, 30 Herriott St\, Perth\, ON\, K7H 1T2\, Canada
CATEGORIES:Children
ATTACH;FMTTYPE=image/webp:https://www.perthunionlibrary.ca/wp-content/uploads/2023/06/boy-playing-lego.webp
ORGANIZER;CN="Perth & District Library":MAILTO:info@perthunionlibrary.ca
END:VEVENT
BEGIN:VEVENT
DTSTART;TZID=America/Toronto:20240708T140000
DTEND;TZID=America/Toronto:20240708T150000
DTSTAMP:20260422T232722
CREATED:20240610T130006Z
LAST-MODIFIED:20240606T142722Z
UID:24657-1720447200-1720450800@www.perthunionlibrary.ca
SUMMARY:Story & Craft: : "Mousetronaut" by Mark C. Kelly and Paint Your Own Meteor
DESCRIPTION:“Mousetronaut” by Mark C. Kelly kicks off our Summer series “Story & Craft” with Rhiannon! Come and join us for some fun times with friend before we blast off into space with a couple of fun books. We’ll end with making our own meteors and painting our own beautiful space rocks!
URL:https://www.perthunionlibrary.ca/event/story-craft-mousetronaut-by-mark-c-kelly-and-paint-your-own-meteor/
LOCATION:Library Garden – Perth & District Union Public Library\, 30 Herriott St\, Perth\, ON\, K7H 1T2\, Canada
CATEGORIES:Children
ATTACH;FMTTYPE=image/jpeg:https://www.perthunionlibrary.ca/wp-content/uploads/2024/06/Story.jpg
ORGANIZER;CN="Perth & District Library":MAILTO:info@perthunionlibrary.ca
END:VEVENT
BEGIN:VEVENT
DTSTART;TZID=America/Toronto:20240709T103000
DTEND;TZID=America/Toronto:20240709T113000
DTSTAMP:20260422T232722
CREATED:20240405T131015Z
LAST-MODIFIED:20240503T174945Z
UID:23736-1720521000-1720524600@www.perthunionlibrary.ca
SUMMARY:Storytime with Heidi at the Maberly Hall
DESCRIPTION:Join Heidi Tuesday mornings for stories\,songs and rhymes.This program is best suited for children ages 0-5 and takes place in Stewart Park\, The Maberly Hall and Aspira Court retirement home on a rotating shedule. \nRegistration not required drop in!
URL:https://www.perthunionlibrary.ca/event/spring-session-of-babytime-2-4-2/
LOCATION:Maberly Community Hall\, 180 Elphin-Maberly Rd\, Maberly\, ON\, K0H 2B0\, Canada
CATEGORIES:Babies & Toddlers,Children
ATTACH;FMTTYPE=image/png:https://www.perthunionlibrary.ca/wp-content/uploads/2023/12/ST-2022-promo-2.png
ORGANIZER;CN="Perth & District Library":MAILTO:info@perthunionlibrary.ca
END:VEVENT
BEGIN:VEVENT
DTSTART;TZID=America/Toronto:20240711T140000
DTEND;TZID=America/Toronto:20240711T150000
DTSTAMP:20260422T232722
CREATED:20240610T130031Z
LAST-MODIFIED:20240606T153027Z
UID:24673-1720706400-1720710000@www.perthunionlibrary.ca
SUMMARY:Galactic Creations: Crafting Cardboard Aliens
DESCRIPTION:Come build some extraterrestrial friends at the library! We will paint\, cut\, and craft our own aliens. Registration will begin on June 22 at 9 am.
URL:https://www.perthunionlibrary.ca/event/galactic-creations-crafting-cardboard-aliens/
LOCATION:Library Garden – Perth & District Union Public Library\, 30 Herriott St\, Perth\, ON\, K7H 1T2\, Canada
CATEGORIES:Children
ATTACH;FMTTYPE=image/jpeg:https://www.perthunionlibrary.ca/wp-content/uploads/2024/06/Hiring-2.jpg
ORGANIZER;CN="Perth & District Library":MAILTO:info@perthunionlibrary.ca
END:VEVENT
BEGIN:VEVENT
DTSTART;TZID=America/Toronto:20240715T140000
DTEND;TZID=America/Toronto:20240715T150000
DTSTAMP:20260422T232722
CREATED:20240610T130041Z
LAST-MODIFIED:20240606T154038Z
UID:24677-1721052000-1721055600@www.perthunionlibrary.ca
SUMMARY:Story & Craft: "Wilfred Gordon MacDonald Partridge" by Mem Fox and DIY Time Capsule
DESCRIPTION:We will read “Wilfred Gordon MacDonald Partridge” by Mem Fox\, and talk about special things and important memories! Then we will make our own Time Capsules to take home. Please bring some special items from home to place in the Time Capsule. The library will also provide a few things to help us remember July 2024 as well as the container for the time capsule!
URL:https://www.perthunionlibrary.ca/event/story-craft-wilfred-gordon-macdonald-partridge-by-mem-fox-and-diy-time-capsule/
LOCATION:Library Garden – Perth & District Union Public Library\, 30 Herriott St\, Perth\, ON\, K7H 1T2\, Canada
CATEGORIES:Children
ATTACH;FMTTYPE=image/jpeg:https://www.perthunionlibrary.ca/wp-content/uploads/2024/06/Story-2.jpg
ORGANIZER;CN="Perth & District Library":MAILTO:info@perthunionlibrary.ca
END:VEVENT
BEGIN:VEVENT
DTSTART;TZID=America/Toronto:20240716T100000
DTEND;TZID=America/Toronto:20240716T103000
DTSTAMP:20260422T232722
CREATED:20240312T130912Z
LAST-MODIFIED:20240405T131547Z
UID:23186-1721124000-1721125800@www.perthunionlibrary.ca
SUMMARY:Intergenerational Storytime!
DESCRIPTION:Intergenerational Storytime – in partnership with Aspira Carolina Retirement Living \nThe Perth & District Union Public Library is excited to host: Intergenerational Storytime. This program will be offered on selected dates throughout the fall and winter and will be held in the main lobby of Aspira Carolina Retirement Living. Parents\, grandparents and caregivers are encouraged to bring their children and grandchildren to enjoy stories\, songs and rhymes with residents from the retirement community\, hosted by the library’s Children’s Librarian. This program is best suited for children ages 18 months – 5 years. \n“The idea of hosting a storytime outside of the library has been percolating for a while and when a community member suggested Aspira Carolina\, it seemed like a good fit. Seeing all ages come together for early literacy is wonderful – it should be an engaging experience for all!” – Heidi Taber \nThe program is free of charge and drop-ins are welcome (no registration required). Participants will be asked to sign in upon arrival and ensure that they are healthy. Please visit www.perthunionlibrary.ca or call the library 613-267-1224  for more information.
URL:https://www.perthunionlibrary.ca/event/intergenerational-storytime-12/
LOCATION:Aspira Carolina Retirement Living\, 12 Alma Street\, Perth\, Ontario\, Canada
CATEGORIES:Adult,Babies & Toddlers,Children,Seniors
ATTACH;FMTTYPE=image/png:https://www.perthunionlibrary.ca/wp-content/uploads/2024/03/April-of-Join-Us-fo-3-1.png
END:VEVENT
BEGIN:VEVENT
DTSTART;TZID=America/Toronto:20240718T140000
DTEND;TZID=America/Toronto:20240718T150000
DTSTAMP:20260422T232722
CREATED:20240610T130008Z
LAST-MODIFIED:20240703T175557Z
UID:24694-1721311200-1721314800@www.perthunionlibrary.ca
SUMMARY:Stellar Salt Painting
DESCRIPTION:Join us to make art pieces using watercolour paints and salt to create a starry-sky effect. Registration opens on July 3\, 2024!
URL:https://www.perthunionlibrary.ca/event/stellar-salt-painting/
LOCATION:Library Garden – Perth & District Union Public Library\, 30 Herriott St\, Perth\, ON\, K7H 1T2\, Canada
CATEGORIES:Children
ATTACH;FMTTYPE=image/png:https://www.perthunionlibrary.ca/wp-content/uploads/2024/06/Screenshot-2024-06-06-at-1.43.00 PM.png
ORGANIZER;CN="Perth & District Library":MAILTO:info@perthunionlibrary.ca
END:VEVENT
BEGIN:VEVENT
DTSTART;TZID=America/Toronto:20240722T140000
DTEND;TZID=America/Toronto:20240722T150000
DTSTAMP:20260422T232722
CREATED:20240610T130039Z
LAST-MODIFIED:20240606T180734Z
UID:24698-1721656800-1721660400@www.perthunionlibrary.ca
SUMMARY:Story & Craft: "We are Water Protectors" by Carol Lundstrom and Nature Drawing
DESCRIPTION:Join us as we read our next Story & Craft book “We are Water Protectors” by Carol Lundstrom! We will then spend some time in the library garden learning how to draw leaves\, trees\, bugs\, and flowers! Registration opens on July 3 @ 9 am.
URL:https://www.perthunionlibrary.ca/event/story-craft-we-are-water-protectors-by-carol-lundstrom-and-nature-drawing/
LOCATION:Library Garden – Perth & District Union Public Library\, 30 Herriott St\, Perth\, ON\, K7H 1T2\, Canada
CATEGORIES:Children
ATTACH;FMTTYPE=image/jpeg:https://www.perthunionlibrary.ca/wp-content/uploads/2024/06/Story-3.jpg
ORGANIZER;CN="Perth & District Library":MAILTO:info@perthunionlibrary.ca
END:VEVENT
BEGIN:VEVENT
DTSTART;TZID=America/Toronto:20240723T103000
DTEND;TZID=America/Toronto:20240723T110000
DTSTAMP:20260422T232722
CREATED:20240405T131704Z
LAST-MODIFIED:20240712T141214Z
UID:23744-1721730600-1721732400@www.perthunionlibrary.ca
SUMMARY:Storytime with Heidi in Stewart Park
DESCRIPTION:Join Heidi Tuesday mornings for stories\,songs and rhymes.This program is best suited for children ages 0-5 and takes place in Stewart Park\, The Maberly Hall and Aspira Court retirement home on a rotating shedule. \nRegistration not required drop in!
URL:https://www.perthunionlibrary.ca/event/spring-session-of-babytime-2-4-3/
LOCATION:Stewart Park\, 41 Mill Street\, Perth\, Ontario\, Canada
CATEGORIES:Babies & Toddlers
ATTACH;FMTTYPE=image/png:https://www.perthunionlibrary.ca/wp-content/uploads/2023/12/ST-2022-promo-2.png
ORGANIZER;CN="Perth & District Library":MAILTO:info@perthunionlibrary.ca
END:VEVENT
BEGIN:VEVENT
DTSTART;TZID=America/Toronto:20240724T020000
DTEND;TZID=America/Toronto:20240724T150000
DTSTAMP:20260422T232722
CREATED:20240610T130015Z
LAST-MODIFIED:20240703T154112Z
UID:24707-1721786400-1721833200@www.perthunionlibrary.ca
SUMMARY:Make your own Aurora Borealis!
DESCRIPTION:We’ve had beautiful Aurora Borealis Sightings this Spring! Let’s make our own by using a chalk pastel technique to create an art piece inspired by Aurora Borealis! Registration opens on July 3.
URL:https://www.perthunionlibrary.ca/event/make-your-own-aurora-borealis/
LOCATION:Library Garden – Perth & District Union Public Library\, 30 Herriott St\, Perth\, ON\, K7H 1T2\, Canada
CATEGORIES:Children
ATTACH;FMTTYPE=image/png:https://www.perthunionlibrary.ca/wp-content/uploads/2024/06/Screenshot-2024-06-06-at-2.39.04 PM.png
ORGANIZER;CN="Perth & District Library":MAILTO:info@perthunionlibrary.ca
END:VEVENT
BEGIN:VEVENT
DTSTART;TZID=America/Toronto:20240729T100000
DTEND;TZID=America/Toronto:20240729T130000
DTSTAMP:20260422T232722
CREATED:20240610T130030Z
LAST-MODIFIED:20240607T160624Z
UID:24765-1722247200-1722258000@www.perthunionlibrary.ca
SUMMARY:Sumo-bot Competition with STEAMPUNK Robotics Education Inc. Ages 8-14
DESCRIPTION:Each day is a stand alone workshop \nTry your hand at building a sumo-bot with Lego Spike sets and have some fun competing against other teams. Robot-sumo is a sport in which two robots attempt to push each other out of a circle (in a similar fashion to the sport of sumo).  Each team will have their own table with a Lego Spike kit\, a laptop and instructions to build and code a sumo-bot. Our awesome STEM programmer will be at hand to help with the building and the coding. Afterwards\, we will pit the sumo-bots against each other and we will declare a winner! \nParticipants are asked to please bring a snack. Registration will open on June\, 17 at 9:00am  \nMany thanks to the Elizabeth Kelly Foundation for their generous financial support of this program
URL:https://www.perthunionlibrary.ca/event/sumo-bot-competition-with-steampunk-robotics-education-inc-ages-8-14/
LOCATION:Common Room – Perth & District Union Public Library\, 30 Herriott St\, Perth\, Ontario\, K7H 1T2\, Canada
CATEGORIES:Children
ATTACH;FMTTYPE=image/png:https://www.perthunionlibrary.ca/wp-content/uploads/2023/06/5.png
END:VEVENT
BEGIN:VEVENT
DTSTART;TZID=America/Toronto:20240730T100000
DTEND;TZID=America/Toronto:20240730T130000
DTSTAMP:20260422T232722
CREATED:20240610T130014Z
LAST-MODIFIED:20240607T155613Z
UID:24768-1722333600-1722344400@www.perthunionlibrary.ca
SUMMARY:Maze Challenge with Steampunk Robotics Inc. Ages 8-14
DESCRIPTION:  \nEach day is a stand alone workshop \nAt Lego Robotics camp\, participants use LEGO Spike sets to build a robot that can complete a challenge (move items\, complete a maze\, race) or compete against other participants’ sumo-bot creations. Then\, using laptops and Scratch they code their robots and compete\, then solve structural and programming challenges. \nParticipants are asked to please bring a snack. Registration will open on June\, 17 at 9:00am  \nMany thanks to the Elizabeth Kelly Foundation for their generous financial support of this program! \n 
URL:https://www.perthunionlibrary.ca/event/maze-challenge-with-steampunk-robotics-inc-ages-8-14/
LOCATION:Common Room – Perth & District Union Public Library\, 30 Herriott St\, Perth\, Ontario\, K7H 1T2\, Canada
CATEGORIES:Children
ATTACH;FMTTYPE=image/png:https://www.perthunionlibrary.ca/wp-content/uploads/2023/06/LEGO-Robotics-Lanark-Libraries.png
END:VEVENT
BEGIN:VEVENT
DTSTART;TZID=America/Toronto:20240730T103000
DTEND;TZID=America/Toronto:20240730T110000
DTSTAMP:20260422T232722
CREATED:20240405T132003Z
LAST-MODIFIED:20240712T141226Z
UID:23747-1722335400-1722337200@www.perthunionlibrary.ca
SUMMARY:Storytime with Heidi in Stewart Park
DESCRIPTION:Join Heidi Tuesday mornings for stories\,songs and rhymes.This program is best suited for children ages 0-5 and takes place in Stewart Park\, The Maberly Hall and Aspira Court retirement home on a rotating shedule. \nRegistration not required drop in!
URL:https://www.perthunionlibrary.ca/event/spring-session-of-babytime-2-4-4/
LOCATION:Stewart Park\, 41 Mill Street\, Perth\, Ontario\, Canada
CATEGORIES:Babies & Toddlers
ATTACH;FMTTYPE=image/png:https://www.perthunionlibrary.ca/wp-content/uploads/2023/12/ST-2022-promo-2.png
ORGANIZER;CN="Perth & District Library":MAILTO:info@perthunionlibrary.ca
END:VEVENT
BEGIN:VEVENT
DTSTART;TZID=America/Toronto:20240731T100000
DTEND;TZID=America/Toronto:20240731T130000
DTSTAMP:20260422T232722
CREATED:20240610T130029Z
LAST-MODIFIED:20240607T171707Z
UID:24783-1722420000-1722430800@www.perthunionlibrary.ca
SUMMARY:Line Follower Challenge with Steampunk Robotics Inc. Ages 8-14
DESCRIPTION:Each day is a stand alone workshop \n At Lego Robotics camp\, participants use LEGO Spike sets to build a robot that can complete a challenge (move items\, complete a maze\, race) or compete against other participants’ sumo-bot creations. Then\, using laptops and Scratch they code their robots and compete\, then solve structural and programming challenges. In the line follower challenge\, the attendees learn how to build a robot that follows a black line. The workings of a line follower robot are pretty straightforward. These robots have the capability to detect a black or dark line on a lighter surface depending on the contrast. They estimate whether the line underneath them is shifting toward their left or right as they move over them. Based on that estimation\, they give respective signals to the motors to turn left or right so as to maintain a steady center with respect to the line. \nParticipants are asked to please bring a snack. Registration will open on June\, 17 at 9:00am  \nMany thanks to the Elizabeth Kelly Foundation for their generous financial support of this program! \n 
URL:https://www.perthunionlibrary.ca/event/line-follower-challenge-with-steampunk-robotics-inc-ages-8-14/
LOCATION:Common Room – Perth & District Union Public Library\, 30 Herriott St\, Perth\, Ontario\, K7H 1T2\, Canada
CATEGORIES:Children
ATTACH;FMTTYPE=image/png:https://www.perthunionlibrary.ca/wp-content/uploads/2023/06/Line.png
END:VEVENT
END:VCALENDAR