BEGIN:VCALENDAR
VERSION:2.0
PRODID:-//Perth Union Library - ECPv6.15.20//NONSGML v1.0//EN
CALSCALE:GREGORIAN
METHOD:PUBLISH
X-ORIGINAL-URL:https://www.perthunionlibrary.ca
X-WR-CALDESC:Events for Perth Union Library
REFRESH-INTERVAL;VALUE=DURATION:PT1H
X-Robots-Tag:noindex
X-PUBLISHED-TTL:PT1H
BEGIN:VTIMEZONE
TZID:America/Toronto
BEGIN:DAYLIGHT
TZOFFSETFROM:-0500
TZOFFSETTO:-0400
TZNAME:EDT
DTSTART:20230312T070000
END:DAYLIGHT
BEGIN:STANDARD
TZOFFSETFROM:-0400
TZOFFSETTO:-0500
TZNAME:EST
DTSTART:20231105T060000
END:STANDARD
BEGIN:DAYLIGHT
TZOFFSETFROM:-0500
TZOFFSETTO:-0400
TZNAME:EDT
DTSTART:20240310T070000
END:DAYLIGHT
BEGIN:STANDARD
TZOFFSETFROM:-0400
TZOFFSETTO:-0500
TZNAME:EST
DTSTART:20241103T060000
END:STANDARD
BEGIN:DAYLIGHT
TZOFFSETFROM:-0500
TZOFFSETTO:-0400
TZNAME:EDT
DTSTART:20250309T070000
END:DAYLIGHT
BEGIN:STANDARD
TZOFFSETFROM:-0400
TZOFFSETTO:-0500
TZNAME:EST
DTSTART:20251102T060000
END:STANDARD
END:VTIMEZONE
BEGIN:VEVENT
DTSTART;TZID=America/Toronto:20240117T173000
DTEND;TZID=America/Toronto:20240117T183000
DTSTAMP:20260419T182446
CREATED:20230814T180424Z
LAST-MODIFIED:20240212T171440Z
UID:19493-1705512600-1705516200@www.perthunionlibrary.ca
SUMMARY:Junior Lego Club ages 4-8
DESCRIPTION:Come enjoy a monthly Lego challenge at the library! All Lego will be supplied and parent and caregivers are welcome and must stay in the library with if thier chidren are under the age of 10. \nDrop in!
URL:https://www.perthunionlibrary.ca/event/junior-lego-club-ages-4-8-11/
LOCATION:Frizell (Program) Room – Perth & District Union Public Library\, 30 Herriott St\, Perth\, Ontario\, K7H 1T2\, Canada
CATEGORIES:Children
ATTACH;FMTTYPE=image/png:https://www.perthunionlibrary.ca/wp-content/uploads/2022/12/junior-lego-club-ages-4-7.png
END:VEVENT
END:VCALENDAR