BEGIN:VCALENDAR
VERSION:2.0
PRODID:-//Perth Union Library - ECPv6.15.20//NONSGML v1.0//EN
CALSCALE:GREGORIAN
METHOD:PUBLISH
X-WR-CALNAME:Perth Union Library
X-ORIGINAL-URL:https://www.perthunionlibrary.ca
X-WR-CALDESC:Events for Perth Union Library
REFRESH-INTERVAL;VALUE=DURATION:PT1H
X-Robots-Tag:noindex
X-PUBLISHED-TTL:PT1H
BEGIN:VTIMEZONE
TZID:America/Toronto
BEGIN:DAYLIGHT
TZOFFSETFROM:-0500
TZOFFSETTO:-0400
TZNAME:EDT
DTSTART:20230312T070000
END:DAYLIGHT
BEGIN:STANDARD
TZOFFSETFROM:-0400
TZOFFSETTO:-0500
TZNAME:EST
DTSTART:20231105T060000
END:STANDARD
BEGIN:DAYLIGHT
TZOFFSETFROM:-0500
TZOFFSETTO:-0400
TZNAME:EDT
DTSTART:20240310T070000
END:DAYLIGHT
BEGIN:STANDARD
TZOFFSETFROM:-0400
TZOFFSETTO:-0500
TZNAME:EST
DTSTART:20241103T060000
END:STANDARD
BEGIN:DAYLIGHT
TZOFFSETFROM:-0500
TZOFFSETTO:-0400
TZNAME:EDT
DTSTART:20250309T070000
END:DAYLIGHT
BEGIN:STANDARD
TZOFFSETFROM:-0400
TZOFFSETTO:-0500
TZNAME:EST
DTSTART:20251102T060000
END:STANDARD
END:VTIMEZONE
BEGIN:VEVENT
DTSTART;TZID=America/Toronto:20240411T101500
DTEND;TZID=America/Toronto:20240411T110000
DTSTAMP:20260419T135756
CREATED:20240326T155153Z
LAST-MODIFIED:20240326T155153Z
UID:23544-1712830500-1712833200@www.perthunionlibrary.ca
SUMMARY:Spring session of Storytime
DESCRIPTION:Join Heidi Thursday mornings for stories\,songs and rhymes.This program is best suited for children ages 18 months – to 5 years\, and takes place upstairs in the children’s department at the library. The program includes a simple craft or activity. \nRegistration not required drop in! \nIf you prefer to join from the comfort of your home\, sign up for the Zoom link here.
URL:https://www.perthunionlibrary.ca/event/spring-session-of-storytime/
LOCATION:Frizell (Program) Room – Perth & District Union Public Library\, 30 Herriott St\, Perth\, Ontario\, K7H 1T2\, Canada
CATEGORIES:Children
ATTACH;FMTTYPE=image/png:https://www.perthunionlibrary.ca/wp-content/uploads/2024/03/New-Items.png
ORGANIZER;CN="Perth & District Library":MAILTO:info@perthunionlibrary.ca
END:VEVENT
BEGIN:VEVENT
DTSTART;TZID=America/Toronto:20240411T101500
DTEND;TZID=America/Toronto:20240411T110000
DTSTAMP:20260419T135756
CREATED:20240326T155153Z
LAST-MODIFIED:20240326T155153Z
UID:23544-1712830500-1712833200@www.perthunionlibrary.ca
SUMMARY:Spring session of Storytime
DESCRIPTION:Join Heidi Thursday mornings for stories\,songs and rhymes.This program is best suited for children ages 18 months – to 5 years\, and takes place upstairs in the children’s department at the library. The program includes a simple craft or activity. \nRegistration not required drop in! \nIf you prefer to join from the comfort of your home\, sign up for the Zoom link here.
URL:https://www.perthunionlibrary.ca/event/spring-session-of-storytime/
LOCATION:Frizell (Program) Room – Perth & District Union Public Library\, 30 Herriott St\, Perth\, Ontario\, K7H 1T2\, Canada
CATEGORIES:Children
ATTACH;FMTTYPE=image/png:https://www.perthunionlibrary.ca/wp-content/uploads/2024/03/New-Items.png
ORGANIZER;CN="Perth & District Library":MAILTO:info@perthunionlibrary.ca
END:VEVENT
BEGIN:VEVENT
DTSTART;TZID=America/Toronto:20240511T103000
DTEND;TZID=America/Toronto:20240511T130000
DTSTAMP:20260419T135756
CREATED:20240311T180917Z
LAST-MODIFIED:20240316T134928Z
UID:23160-1715423400-1715432400@www.perthunionlibrary.ca
SUMMARY:An introduction to robotics with LEGO Mindstorms
DESCRIPTION:The Library is excited to host Virtual Ventures from Carleton University.The students will build and\nprogram their own robots to complete a variety of\ntasks. This teaches students the basics of block coding\nand the importance of robotics in everyday life.
URL:https://www.perthunionlibrary.ca/event/an-introduction-to-robotics-with-lego-mindstorms/
LOCATION:Frizell (Program) Room – Perth & District Union Public Library\, 30 Herriott St\, Perth\, Ontario\, K7H 1T2\, Canada
CATEGORIES:Children
ATTACH;FMTTYPE=image/png:https://www.perthunionlibrary.ca/wp-content/uploads/2024/03/May-STEM-Poster.png
ORGANIZER;CN="Perth & District Library":MAILTO:info@perthunionlibrary.ca
END:VEVENT
BEGIN:VEVENT
DTSTART;TZID=America/Toronto:20240423T103000
DTEND;TZID=America/Toronto:20240423T110000
DTSTAMP:20260419T135756
CREATED:20240326T155505Z
LAST-MODIFIED:20240326T155505Z
UID:23551-1713868200-1713870000@www.perthunionlibrary.ca
SUMMARY:Spring Session of Babytime
DESCRIPTION: Babytime returns Tuesday mornings at 10:30 am in the programming room at the library.\nThis half hour program is designed to introduce new parents and babies to the joy of reading and songs.This program is for children 0-18 months and their caregivers. \nIf you prefer to join in from the comfort of your home sign up to receive the Zoom link.
URL:https://www.perthunionlibrary.ca/event/spring-session-of-babytime/
LOCATION:Frizell (Program) Room – Perth & District Union Public Library\, 30 Herriott St\, Perth\, Ontario\, K7H 1T2\, Canada
CATEGORIES:Babies & Toddlers
ATTACH;FMTTYPE=image/png:https://www.perthunionlibrary.ca/wp-content/uploads/2023/03/Babytime-7.png
ORGANIZER;CN="Perth & District Library":MAILTO:info@perthunionlibrary.ca
END:VEVENT
BEGIN:VEVENT
DTSTART;TZID=America/Toronto:20240516T100000
DTEND;TZID=America/Toronto:20240516T103000
DTSTAMP:20260419T135756
CREATED:20240312T125250Z
LAST-MODIFIED:20240405T125847Z
UID:23177-1715853600-1715855400@www.perthunionlibrary.ca
SUMMARY:Intergenerational Storytime!
DESCRIPTION:Intergenerational Storytime – in partnership with Aspira Carolina Retirement Living \nThe Perth & District Union Public Library is excited to host: Intergenerational Storytime. This program will be offered on selected dates throughout the spring and summer and will be held in the main lobby of Aspira Carolina Retirement Living. Parents\, grandparents and caregivers are encouraged to bring their children and grandchildren to enjoy stories\, songs and rhymes with residents from the retirement community\, hosted by the library’s Children’s Librarian. This program is best suited for children ages 18 months – 5 years. \n“The idea of hosting a storytime outside of the library has been percolating for a while and when a community member suggested Aspira Carolina\, it seemed like a good fit. Seeing all ages come together for early literacy is wonderful – it should be an engaging experience for all!” – Heidi Taber \nThe program is free of charge and drop-ins are welcome (no registration required). Participants will be asked to sign in upon arrival and ensure that they are healthy. Please visit www.perthunionlibrary.ca or call the library 613-267-1224  for more information.
URL:https://www.perthunionlibrary.ca/event/intergenerational-storytime-9/
LOCATION:Aspira Carolina Retirement Living\, 12 Alma Street\, Perth\, Ontario\, Canada
CATEGORIES:Adult,Babies & Toddlers,Children,Seniors
ATTACH;FMTTYPE=image/png:https://www.perthunionlibrary.ca/wp-content/uploads/2024/03/April-of-Join-Us-fo-1-1.png
END:VEVENT
BEGIN:VEVENT
DTSTART;TZID=America/Toronto:20240423T103000
DTEND;TZID=America/Toronto:20240423T110000
DTSTAMP:20260419T135756
CREATED:20240326T155505Z
LAST-MODIFIED:20240326T155505Z
UID:23551-1713868200-1713870000@www.perthunionlibrary.ca
SUMMARY:Spring Session of Babytime
DESCRIPTION: Babytime returns Tuesday mornings at 10:30 am in the programming room at the library.\nThis half hour program is designed to introduce new parents and babies to the joy of reading and songs.This program is for children 0-18 months and their caregivers. \nIf you prefer to join in from the comfort of your home sign up to receive the Zoom link.
URL:https://www.perthunionlibrary.ca/event/spring-session-of-babytime/
LOCATION:Frizell (Program) Room – Perth & District Union Public Library\, 30 Herriott St\, Perth\, Ontario\, K7H 1T2\, Canada
CATEGORIES:Babies & Toddlers
ATTACH;FMTTYPE=image/png:https://www.perthunionlibrary.ca/wp-content/uploads/2023/03/Babytime-7.png
ORGANIZER;CN="Perth & District Library":MAILTO:info@perthunionlibrary.ca
END:VEVENT
BEGIN:VEVENT
DTSTART;TZID=America/Toronto:20240411T101500
DTEND;TZID=America/Toronto:20240411T110000
DTSTAMP:20260419T135756
CREATED:20240326T155153Z
LAST-MODIFIED:20240326T155153Z
UID:23544-1712830500-1712833200@www.perthunionlibrary.ca
SUMMARY:Spring session of Storytime
DESCRIPTION:Join Heidi Thursday mornings for stories\,songs and rhymes.This program is best suited for children ages 18 months – to 5 years\, and takes place upstairs in the children’s department at the library. The program includes a simple craft or activity. \nRegistration not required drop in! \nIf you prefer to join from the comfort of your home\, sign up for the Zoom link here.
URL:https://www.perthunionlibrary.ca/event/spring-session-of-storytime/
LOCATION:Frizell (Program) Room – Perth & District Union Public Library\, 30 Herriott St\, Perth\, Ontario\, K7H 1T2\, Canada
CATEGORIES:Children
ATTACH;FMTTYPE=image/png:https://www.perthunionlibrary.ca/wp-content/uploads/2024/03/New-Items.png
ORGANIZER;CN="Perth & District Library":MAILTO:info@perthunionlibrary.ca
END:VEVENT
END:VCALENDAR