BEGIN:VCALENDAR
VERSION:2.0
PRODID:-//Perth Union Library - ECPv6.15.20//NONSGML v1.0//EN
CALSCALE:GREGORIAN
METHOD:PUBLISH
X-ORIGINAL-URL:https://www.perthunionlibrary.ca
X-WR-CALDESC:Events for Perth Union Library
REFRESH-INTERVAL;VALUE=DURATION:PT1H
X-Robots-Tag:noindex
X-PUBLISHED-TTL:PT1H
BEGIN:VTIMEZONE
TZID:America/Toronto
BEGIN:DAYLIGHT
TZOFFSETFROM:-0500
TZOFFSETTO:-0400
TZNAME:EDT
DTSTART:20230312T070000
END:DAYLIGHT
BEGIN:STANDARD
TZOFFSETFROM:-0400
TZOFFSETTO:-0500
TZNAME:EST
DTSTART:20231105T060000
END:STANDARD
BEGIN:DAYLIGHT
TZOFFSETFROM:-0500
TZOFFSETTO:-0400
TZNAME:EDT
DTSTART:20240310T070000
END:DAYLIGHT
BEGIN:STANDARD
TZOFFSETFROM:-0400
TZOFFSETTO:-0500
TZNAME:EST
DTSTART:20241103T060000
END:STANDARD
BEGIN:DAYLIGHT
TZOFFSETFROM:-0500
TZOFFSETTO:-0400
TZNAME:EDT
DTSTART:20250309T070000
END:DAYLIGHT
BEGIN:STANDARD
TZOFFSETFROM:-0400
TZOFFSETTO:-0500
TZNAME:EST
DTSTART:20251102T060000
END:STANDARD
END:VTIMEZONE
BEGIN:VEVENT
DTSTART;TZID=America/Toronto:20240807T140000
DTEND;TZID=America/Toronto:20240807T150000
DTSTAMP:20260419T123045
CREATED:20240610T130048Z
LAST-MODIFIED:20240607T143738Z
UID:24744-1723039200-1723042800@www.perthunionlibrary.ca
SUMMARY:Murphy's Point Reptiles
DESCRIPTION:If you missed it the first time around\, come to see Rachel Needham talk about the Reptiles of Lanark with a special guest\, a live Gray Ratsnake!
URL:https://www.perthunionlibrary.ca/event/murphys-point-reptiles/
LOCATION:Library Garden – Perth & District Union Public Library\, 30 Herriott St\, Perth\, ON\, K7H 1T2\, Canada
CATEGORIES:Children,Teen
ORGANIZER;CN="Perth & District Library":MAILTO:info@perthunionlibrary.ca
END:VEVENT
BEGIN:VEVENT
DTSTART;TZID=America/Toronto:20240814T140000
DTEND;TZID=America/Toronto:20240814T150000
DTSTAMP:20260419T123045
CREATED:20240610T130056Z
LAST-MODIFIED:20240608T182545Z
UID:24759-1723644000-1723647600@www.perthunionlibrary.ca
SUMMARY:Blue Marble: Ants vs. Egyptians
DESCRIPTION:The Egyptians challenge the Ants to a game of Senet. In this experience\, learners will learn\, explore\, and compare the world of Ancient Egypt to the world of Ants. At first mention\, you might not think there are any similarities but just wait. Answer questions to win a turn and advance in the Egyptian game of Senet! \nIn order for blue marble learning scene to facilitate your desired activity\, each participant must sign or have their parent/guardian sign blue marble learning scene’s liability waiver found here: https://forms.gle/Gjtb2nPJwHb7oRkK7 \nRegistration opens July 31.
URL:https://www.perthunionlibrary.ca/event/blue-marble-ants-vs-egyptians/
LOCATION:Library Garden – Perth & District Union Public Library\, 30 Herriott St\, Perth\, ON\, K7H 1T2\, Canada
CATEGORIES:Children
ATTACH;FMTTYPE=image/png:https://www.perthunionlibrary.ca/wp-content/uploads/2024/06/Screenshot-2024-06-07-at-11.40.04 AM.png
ORGANIZER;CN="Perth & District Library":MAILTO:info@perthunionlibrary.ca
END:VEVENT
BEGIN:VEVENT
DTSTART;TZID=America/Toronto:20240815T140000
DTEND;TZID=America/Toronto:20240815T150000
DTSTAMP:20260419T123045
CREATED:20240610T130043Z
LAST-MODIFIED:20240801T125700Z
UID:24763-1723730400-1723734000@www.perthunionlibrary.ca
SUMMARY:DIY Solar System Craft
DESCRIPTION:Join us to learn about the Solar System and make your own paper solar system mobile! Registration opens July 31.
URL:https://www.perthunionlibrary.ca/event/diy-solar-system-craft/
LOCATION:Library Garden – Perth & District Union Public Library\, 30 Herriott St\, Perth\, ON\, K7H 1T2\, Canada
CATEGORIES:Children
ATTACH;FMTTYPE=image/jpeg:https://www.perthunionlibrary.ca/wp-content/uploads/2024/06/download-1.jpg
ORGANIZER;CN="Perth & District Library":MAILTO:info@perthunionlibrary.ca
END:VEVENT
END:VCALENDAR